BEGIN:VCALENDAR
VERSION:2.0
PRODID:PHP
METHOD:REQUEST
X-ORIGINAL-URL:https://dtfb.de/wettbewerbe/dtfl-bundesliga/damen4/bundesliga-damen/tabelle?task=team_begegnungen_ical&id=3132
X-WR-CALNAME;VALUE=TEXT:Foosvolk Dortmund
BEGIN:VEVENT
CLASS:PUBLIC
DTSTART:20190323T090000Z
DURATION:PT2H30M
STATUS:CONFIRMED
SUMMARY:Foosvolk Dortmund vs. TFC Bamberg
DESCRIPTION:Damen Bundesliga Gruppe B (1. Spieltag)\nErgebnis: 5:9 (5:9)
UID:SM-B7289@dtfb.de
PRIORITY:5
SEQUENCE:1
CATEGORIES:SPORT
DTSTAMP:20260423T102146
END:VEVENT
BEGIN:VEVENT
CLASS:PUBLIC
DTSTART:20190323T120000Z
DURATION:PT2H30M
STATUS:CONFIRMED
SUMMARY:TSV Schmiden vs. Foosvolk Dortmund
DESCRIPTION:Damen Bundesliga Gruppe B (2. Spieltag)\nErgebnis: 13:1 (13:1)
UID:SM-B7293@dtfb.de
PRIORITY:5
SEQUENCE:1
CATEGORIES:SPORT
DTSTAMP:20260423T102146
END:VEVENT
BEGIN:VEVENT
CLASS:PUBLIC
DTSTART:20190323T143000Z
DURATION:PT2H30M
STATUS:CONFIRMED
SUMMARY:Hamburg Piranhas vs. Foosvolk Dortmund
DESCRIPTION:Damen Bundesliga Gruppe B (3. Spieltag)\nErgebnis: 8:6 (8:6)
UID:SM-B7297@dtfb.de
PRIORITY:5
SEQUENCE:1
CATEGORIES:SPORT
DTSTAMP:20260423T102146
END:VEVENT
BEGIN:VEVENT
CLASS:PUBLIC
DTSTART:20190324T080000Z
DURATION:PT2H30M
STATUS:CONFIRMED
SUMMARY:Foosvolk Dortmund vs. Hannover 96
DESCRIPTION:Damen Bundesliga Gruppe B (4. Spieltag)\nErgebnis: 3:11 (3:11)
UID:SM-B7298@dtfb.de
PRIORITY:5
SEQUENCE:1
CATEGORIES:SPORT
DTSTAMP:20260423T102146
END:VEVENT
BEGIN:VEVENT
CLASS:PUBLIC
DTSTART:20190324T110000Z
DURATION:PT2H30M
STATUS:CONFIRMED
SUMMARY:VfB Rodheim/Horloff vs. Foosvolk Dortmund
DESCRIPTION:Damen Bundesliga Gruppe B (5. Spieltag)\nErgebnis: 7:7 (7:7)
UID:SM-B7302@dtfb.de
PRIORITY:5
SEQUENCE:1
CATEGORIES:SPORT
DTSTAMP:20260423T102146
END:VEVENT
BEGIN:VEVENT
CLASS:PUBLIC
DTSTART:20190324T133000Z
DURATION:PT2H30M
STATUS:CONFIRMED
SUMMARY:Foosvolk Dortmund vs. Roter Stern Köln-Mülheim
DESCRIPTION:Damen Bundesliga Gruppe B (6. Spieltag)\nErgebnis: 5:9 (5:9)
UID:SM-B7307@dtfb.de
PRIORITY:5
SEQUENCE:1
CATEGORIES:SPORT
DTSTAMP:20260423T102146
END:VEVENT
BEGIN:VEVENT
CLASS:PUBLIC
DTSTART:20190810T083000Z
DURATION:PT2H30M
STATUS:CONFIRMED
SUMMARY:Kixx´n Trixx Halle vs. Foosvolk Dortmund
DESCRIPTION:Damen Bundesliga Gruppe B (7. Spieltag)\nErgebnis: 6:8 (6:8)
UID:SM-B7487@dtfb.de
PRIORITY:5
SEQUENCE:1
CATEGORIES:SPORT
DTSTAMP:20260423T102146
END:VEVENT
BEGIN:VEVENT
CLASS:PUBLIC
DTSTART:20190810T113000Z
DURATION:PT2H30M
STATUS:CONFIRMED
SUMMARY:TFC Nürnberg vs. Foosvolk Dortmund
DESCRIPTION:Damen Bundesliga Gruppe F (1. Spieltag)\nErgebnis: 5:9 (5:9)
UID:SM-B7658@dtfb.de
PRIORITY:5
SEQUENCE:1
CATEGORIES:SPORT
DTSTAMP:20260423T102146
END:VEVENT
BEGIN:VEVENT
CLASS:PUBLIC
DTSTART:20190810T140000Z
DURATION:PT2H30M
STATUS:CONFIRMED
SUMMARY:Yard Berlin vs. Foosvolk Dortmund
DESCRIPTION:Damen Bundesliga Gruppe F (2. Spieltag)\nErgebnis: 9:5 (9:5)
UID:SM-B7662@dtfb.de
PRIORITY:5
SEQUENCE:1
CATEGORIES:SPORT
DTSTAMP:20260423T102146
END:VEVENT
BEGIN:VEVENT
CLASS:PUBLIC
DTSTART:20190811T073000Z
DURATION:PT2H30M
STATUS:CONFIRMED
SUMMARY:Hamburg Piranhas vs. Foosvolk Dortmund
DESCRIPTION:Damen Bundesliga Gruppe F (3. Spieltag)\nErgebnis: 7:7 (7:7)
UID:SM-B7663@dtfb.de
PRIORITY:5
SEQUENCE:1
CATEGORIES:SPORT
DTSTAMP:20260423T102146
END:VEVENT
BEGIN:VEVENT
CLASS:PUBLIC
DTSTART:20190811T103000Z
DURATION:PT2H30M
STATUS:CONFIRMED
SUMMARY:Foosvolk Dortmund vs. VfB Rodheim/Horloff
DESCRIPTION:Damen Bundesliga Hauptrunde (Platz 13-16)\nErgebnis: 8:4 (8:4)
UID:SM-B7715@dtfb.de
PRIORITY:5
SEQUENCE:1
CATEGORIES:SPORT
DTSTAMP:20260423T102146
END:VEVENT
BEGIN:VEVENT
CLASS:PUBLIC
DTSTART:20190811T133000Z
DURATION:PT2H30M
STATUS:CONFIRMED
SUMMARY:Berliner Kickerbetriebe vs. Foosvolk Dortmund
DESCRIPTION:Damen Bundesliga Hauptrunde (Platz 13-14)\nErgebnis: 6:8 (6:8)
UID:SM-B7731@dtfb.de
PRIORITY:5
SEQUENCE:1
CATEGORIES:SPORT
DTSTAMP:20260423T102146
END:VEVENT
END:VCALENDAR
