BEGIN:VCALENDAR
VERSION:2.0
PRODID:PHP
METHOD:REQUEST
X-ORIGINAL-URL:https://dtfb.de/wettbewerbe/dtfl-bundesliga/herren/1-bundesliga/mannschaften?task=team_begegnungen_ical&id=4449
X-WR-CALNAME;VALUE=TEXT:1. KC Kaiserslautern
BEGIN:VEVENT
CLASS:PUBLIC
DTSTART:20240316T093000Z
DURATION:PT2H30M
STATUS:CONFIRMED
SUMMARY:1. KC Kaiserslautern vs. Boofken Münster
DESCRIPTION:1. Herrenbundesliga Vorrunde (1. Spieltag)\nErgebnis: 36:42 (36:42)
UID:SM-B10279@dtfb.de
PRIORITY:5
SEQUENCE:1
CATEGORIES:SPORT
DTSTAMP:20260421T201638
BEGIN:VALARM
ACTION:DISPLAY
TRIGGER:-PT2H
END:VALARM
END:VEVENT
BEGIN:VEVENT
CLASS:PUBLIC
DTSTART:20240316T120000Z
DURATION:PT2H30M
STATUS:CONFIRMED
SUMMARY:TFVS Freiburg vs. 1. KC Kaiserslautern
DESCRIPTION:1. Herrenbundesliga Vorrunde (2. Spieltag)\nErgebnis: 42:29 (42:29)
UID:SM-B10283@dtfb.de
PRIORITY:5
SEQUENCE:1
CATEGORIES:SPORT
DTSTAMP:20260421T201638
BEGIN:VALARM
ACTION:DISPLAY
TRIGGER:-PT2H
END:VALARM
END:VEVENT
BEGIN:VEVENT
CLASS:PUBLIC
DTSTART:20240316T140000Z
DURATION:PT2H30M
STATUS:CONFIRMED
SUMMARY:1. KC Kaiserslautern vs. SC Augsburg
DESCRIPTION:1. Herrenbundesliga Vorrunde (3. Spieltag)\nErgebnis: 42:35 (42:35)
UID:SM-B10299@dtfb.de
PRIORITY:5
SEQUENCE:1
CATEGORIES:SPORT
DTSTAMP:20260421T201638
BEGIN:VALARM
ACTION:DISPLAY
TRIGGER:-PT2H
END:VALARM
END:VEVENT
BEGIN:VEVENT
CLASS:PUBLIC
DTSTART:20240316T163000Z
DURATION:PT2H30M
STATUS:CONFIRMED
SUMMARY:Hannover 96 vs. 1. KC Kaiserslautern
DESCRIPTION:1. Herrenbundesliga Vorrunde (4. Spieltag)\nErgebnis: 35:42 (35:42)
UID:SM-B10311@dtfb.de
PRIORITY:5
SEQUENCE:1
CATEGORIES:SPORT
DTSTAMP:20260421T201638
BEGIN:VALARM
ACTION:DISPLAY
TRIGGER:-PT2H
END:VALARM
END:VEVENT
BEGIN:VEVENT
CLASS:PUBLIC
DTSTART:20240316T183000Z
DURATION:PT2H30M
STATUS:CONFIRMED
SUMMARY:1. KC Kaiserslautern vs. Kicker Crew Bonn
DESCRIPTION:1. Herrenbundesliga Vorrunde (5. Spieltag)\nErgebnis: 39:42 (39:42)
UID:SM-B10319@dtfb.de
PRIORITY:5
SEQUENCE:1
CATEGORIES:SPORT
DTSTAMP:20260421T201638
BEGIN:VALARM
ACTION:DISPLAY
TRIGGER:-PT2H
END:VALARM
END:VEVENT
BEGIN:VEVENT
CLASS:PUBLIC
DTSTART:20240317T080000Z
DURATION:PT2H30M
STATUS:CONFIRMED
SUMMARY:Eintracht Frankfurt vs. 1. KC Kaiserslautern
DESCRIPTION:1. Herrenbundesliga Vorrunde (6. Spieltag)\nErgebnis: 38:42 (38:42)
UID:SM-B10329@dtfb.de
PRIORITY:5
SEQUENCE:1
CATEGORIES:SPORT
DTSTAMP:20260421T201638
BEGIN:VALARM
ACTION:DISPLAY
TRIGGER:-PT2H
END:VALARM
END:VEVENT
BEGIN:VEVENT
CLASS:PUBLIC
DTSTART:20240317T103000Z
DURATION:PT2H30M
STATUS:CONFIRMED
SUMMARY:BSC Überbande Hamburg vs. 1. KC Kaiserslautern
DESCRIPTION:1. Herrenbundesliga Vorrunde (7. Spieltag)\nErgebnis: 40:42 (40:42)
UID:SM-B10332@dtfb.de
PRIORITY:5
SEQUENCE:1
CATEGORIES:SPORT
DTSTAMP:20260421T201638
BEGIN:VALARM
ACTION:DISPLAY
TRIGGER:-PT2H
END:VALARM
END:VEVENT
BEGIN:VEVENT
CLASS:PUBLIC
DTSTART:20240317T130000Z
DURATION:PT2H30M
STATUS:CONFIRMED
SUMMARY:1. KC Kaiserslautern vs. TFC St. Wendel
DESCRIPTION:1. Herrenbundesliga Vorrunde (8. Spieltag)\nErgebnis: 25:42 (25:42)
UID:SM-B10348@dtfb.de
PRIORITY:5
SEQUENCE:1
CATEGORIES:SPORT
DTSTAMP:20260421T201638
BEGIN:VALARM
ACTION:DISPLAY
TRIGGER:-PT2H
END:VALARM
END:VEVENT
BEGIN:VEVENT
CLASS:PUBLIC
DTSTART:20240317T150000Z
DURATION:PT2H30M
STATUS:CONFIRMED
SUMMARY:Maschinerie Hamburg vs. 1. KC Kaiserslautern
DESCRIPTION:1. Herrenbundesliga Vorrunde (9. Spieltag)\nErgebnis: 27:42 (27:42)
UID:SM-B10357@dtfb.de
PRIORITY:5
SEQUENCE:1
CATEGORIES:SPORT
DTSTAMP:20260421T201638
BEGIN:VALARM
ACTION:DISPLAY
TRIGGER:-PT2H
END:VALARM
END:VEVENT
BEGIN:VEVENT
CLASS:PUBLIC
DTSTART:20240608T083000Z
DURATION:PT2H30M
STATUS:CONFIRMED
SUMMARY:1. KC Kaiserslautern vs. Silpion Hamburg
DESCRIPTION:1. Herrenbundesliga Vorrunde (10. Spieltag)\nErgebnis: 42:31 (42:31)
UID:SM-B10854@dtfb.de
PRIORITY:5
SEQUENCE:1
CATEGORIES:SPORT
DTSTAMP:20260421T201638
BEGIN:VALARM
ACTION:DISPLAY
TRIGGER:-PT2H
END:VALARM
END:VEVENT
BEGIN:VEVENT
CLASS:PUBLIC
DTSTART:20240608T110000Z
DURATION:PT2H30M
STATUS:CONFIRMED
SUMMARY:TFC Bamberg vs. 1. KC Kaiserslautern
DESCRIPTION:1. Herrenbundesliga Vorrunde (11. Spieltag)\nErgebnis: 35:42 (35:42)
UID:SM-B10861@dtfb.de
PRIORITY:5
SEQUENCE:1
CATEGORIES:SPORT
DTSTAMP:20260421T201638
BEGIN:VALARM
ACTION:DISPLAY
TRIGGER:-PT2H
END:VALARM
END:VEVENT
BEGIN:VEVENT
CLASS:PUBLIC
DTSTART:20240608T133000Z
DURATION:PT2H30M
STATUS:CONFIRMED
SUMMARY:1. KC Kaiserslautern vs. Würzburger Kickers
DESCRIPTION:1. Herrenbundesliga Vorrunde (12. Spieltag)\nErgebnis: 42:35 (42:35)
UID:SM-B10875@dtfb.de
PRIORITY:5
SEQUENCE:1
CATEGORIES:SPORT
DTSTAMP:20260421T201638
BEGIN:VALARM
ACTION:DISPLAY
TRIGGER:-PT2H
END:VALARM
END:VEVENT
BEGIN:VEVENT
CLASS:PUBLIC
DTSTART:20240608T160000Z
DURATION:PT2H30M
STATUS:CONFIRMED
SUMMARY:Foos Club Köln vs. 1. KC Kaiserslautern
DESCRIPTION:1. Herrenbundesliga Vorrunde (13. Spieltag)\nErgebnis: 42:35 (42:35)
UID:SM-B10879@dtfb.de
PRIORITY:5
SEQUENCE:1
CATEGORIES:SPORT
DTSTAMP:20260421T201638
BEGIN:VALARM
ACTION:DISPLAY
TRIGGER:-PT2H
END:VALARM
END:VEVENT
BEGIN:VEVENT
CLASS:PUBLIC
DTSTART:20240609T093000Z
DURATION:PT2H30M
STATUS:CONFIRMED
SUMMARY:TFC Hülzweiler/Saarwellingen vs. 1. KC Kaiserslautern
DESCRIPTION:1. Herrenbundesliga Vorrunde (15. Spieltag)\nErgebnis: 42:27 (42:27)
UID:SM-B10907@dtfb.de
PRIORITY:5
SEQUENCE:1
CATEGORIES:SPORT
DTSTAMP:20260421T201638
BEGIN:VALARM
ACTION:DISPLAY
TRIGGER:-PT2H
END:VALARM
END:VEVENT
BEGIN:VEVENT
CLASS:PUBLIC
DTSTART:20240609T120000Z
DURATION:PT2H30M
STATUS:CONFIRMED
SUMMARY:1. KC Kaiserslautern vs. Schovelkoten Münster
DESCRIPTION:1. Herrenbundesliga Vorrunde (16. Spieltag)\nErgebnis: 42:39 (42:39)
UID:SM-B10914@dtfb.de
PRIORITY:5
SEQUENCE:1
CATEGORIES:SPORT
DTSTAMP:20260421T201638
BEGIN:VALARM
ACTION:DISPLAY
TRIGGER:-PT2H
END:VALARM
END:VEVENT
BEGIN:VEVENT
CLASS:PUBLIC
DTSTART:20240609T140000Z
DURATION:PT2H30M
STATUS:CONFIRMED
SUMMARY:Tablesoccer Dortmund vs. 1. KC Kaiserslautern
DESCRIPTION:1. Herrenbundesliga Vorrunde (17. Spieltag)\nErgebnis: 42:33 (42:33)
UID:SM-B10925@dtfb.de
PRIORITY:5
SEQUENCE:1
CATEGORIES:SPORT
DTSTAMP:20260421T201638
BEGIN:VALARM
ACTION:DISPLAY
TRIGGER:-PT2H
END:VALARM
END:VEVENT
BEGIN:VEVENT
CLASS:PUBLIC
DTSTART:20240921T083000Z
DURATION:PT2H30M
STATUS:CONFIRMED
SUMMARY:1. KC Kaiserslautern vs. Fivebar Hamburg
DESCRIPTION:1. Herrenbundesliga Vorrunde (18. Spieltag)\nErgebnis: 31:42 (31:42)
UID:SM-B11134@dtfb.de
PRIORITY:5
SEQUENCE:1
CATEGORIES:SPORT
DTSTAMP:20260421T201638
BEGIN:VALARM
ACTION:DISPLAY
TRIGGER:-PT2H
END:VALARM
END:VEVENT
BEGIN:VEVENT
CLASS:PUBLIC
DTSTART:20240921T110000Z
DURATION:PT2H30M
STATUS:CONFIRMED
SUMMARY:ASC Göttingen vs. 1. KC Kaiserslautern
DESCRIPTION:1. Herrenbundesliga Vorrunde (19. Spieltag)\nErgebnis: 42:40 (42:40)
UID:SM-B11143@dtfb.de
PRIORITY:5
SEQUENCE:1
CATEGORIES:SPORT
DTSTAMP:20260421T201638
BEGIN:VALARM
ACTION:DISPLAY
TRIGGER:-PT2H
END:VALARM
END:VEVENT
BEGIN:VEVENT
CLASS:PUBLIC
DTSTART:20240921T133000Z
DURATION:PT2H30M
STATUS:CONFIRMED
SUMMARY:1. KC Kaiserslautern vs. TFBS Koblenz
DESCRIPTION:1. Herrenbundesliga Vorrunde (20. Spieltag)\nErgebnis: 42:36 (42:36)
UID:SM-B11154@dtfb.de
PRIORITY:5
SEQUENCE:1
CATEGORIES:SPORT
DTSTAMP:20260421T201638
BEGIN:VALARM
ACTION:DISPLAY
TRIGGER:-PT2H
END:VALARM
END:VEVENT
BEGIN:VEVENT
CLASS:PUBLIC
DTSTART:20240921T160000Z
DURATION:PT2H30M
STATUS:CONFIRMED
SUMMARY:TFC Devils Oldenburg vs. 1. KC Kaiserslautern
DESCRIPTION:1. Herrenbundesliga Vorrunde (21. Spieltag)\nErgebnis: 42:38 (42:38)
UID:SM-B11161@dtfb.de
PRIORITY:5
SEQUENCE:1
CATEGORIES:SPORT
DTSTAMP:20260421T201638
BEGIN:VALARM
ACTION:DISPLAY
TRIGGER:-PT2H
END:VALARM
END:VEVENT
BEGIN:VEVENT
CLASS:PUBLIC
DTSTART:20240922T073000Z
DURATION:PT2H30M
STATUS:CONFIRMED
SUMMARY:1. KC Kaiserslautern vs. TFBS Koblenz
DESCRIPTION:1. Herrenbundesliga Hauptrunde (Platz 8-13)\nErgebnis: 42:35 (42:35)
UID:SM-B11321@dtfb.de
PRIORITY:5
SEQUENCE:1
CATEGORIES:SPORT
DTSTAMP:20260421T201638
BEGIN:VALARM
ACTION:DISPLAY
TRIGGER:-PT2H
END:VALARM
END:VEVENT
BEGIN:VEVENT
CLASS:PUBLIC
DTSTART:20240922T100000Z
DURATION:PT2H30M
STATUS:CONFIRMED
SUMMARY:Kicker Crew Bonn vs. 1. KC Kaiserslautern
DESCRIPTION:1. Herrenbundesliga Hauptrunde (Platz 8-11)\nErgebnis: 42:34 (42:34)
UID:SM-B11333@dtfb.de
PRIORITY:5
SEQUENCE:1
CATEGORIES:SPORT
DTSTAMP:20260421T201638
BEGIN:VALARM
ACTION:DISPLAY
TRIGGER:-PT2H
END:VALARM
END:VEVENT
END:VCALENDAR
