BEGIN:VCALENDAR
VERSION:2.0
PRODID:PHP
METHOD:REQUEST
X-ORIGINAL-URL:https://dtfb.de/wettbewerbe/dtfl-bundesliga/herren/1-bundesliga/mannschaften?task=team_begegnungen_ical&id=4733
X-WR-CALNAME;VALUE=TEXT:Silpion Hamburg
BEGIN:VEVENT
CLASS:PUBLIC
DTSTART:20240316T093000Z
DURATION:PT2H30M
STATUS:CONFIRMED
SUMMARY:Silpion Hamburg vs. ASC Göttingen
DESCRIPTION:1. Herrenbundesliga Vorrunde (1. Spieltag)\nErgebnis: 42:37 (42:37)
UID:SM-B10276@dtfb.de
PRIORITY:5
SEQUENCE:1
CATEGORIES:SPORT
DTSTAMP:20260421T201601
BEGIN:VALARM
ACTION:DISPLAY
TRIGGER:-PT2H
END:VALARM
END:VEVENT
BEGIN:VEVENT
CLASS:PUBLIC
DTSTART:20240316T120000Z
DURATION:PT2H30M
STATUS:CONFIRMED
SUMMARY:TFBS Koblenz vs. Silpion Hamburg
DESCRIPTION:1. Herrenbundesliga Vorrunde (2. Spieltag)\nErgebnis: 40:42 (40:42)
UID:SM-B10286@dtfb.de
PRIORITY:5
SEQUENCE:1
CATEGORIES:SPORT
DTSTAMP:20260421T201601
BEGIN:VALARM
ACTION:DISPLAY
TRIGGER:-PT2H
END:VALARM
END:VEVENT
BEGIN:VEVENT
CLASS:PUBLIC
DTSTART:20240316T140000Z
DURATION:PT2H30M
STATUS:CONFIRMED
SUMMARY:Silpion Hamburg vs. TFC Devils Oldenburg
DESCRIPTION:1. Herrenbundesliga Vorrunde (3. Spieltag)\nErgebnis: 42:29 (42:29)
UID:SM-B10296@dtfb.de
PRIORITY:5
SEQUENCE:1
CATEGORIES:SPORT
DTSTAMP:20260421T201601
BEGIN:VALARM
ACTION:DISPLAY
TRIGGER:-PT2H
END:VALARM
END:VEVENT
BEGIN:VEVENT
CLASS:PUBLIC
DTSTART:20240316T163000Z
DURATION:PT2H30M
STATUS:CONFIRMED
SUMMARY:Boofken Münster vs. Silpion Hamburg
DESCRIPTION:1. Herrenbundesliga Vorrunde (4. Spieltag)\nErgebnis: 42:35 (42:35)
UID:SM-B10304@dtfb.de
PRIORITY:5
SEQUENCE:1
CATEGORIES:SPORT
DTSTAMP:20260421T201601
BEGIN:VALARM
ACTION:DISPLAY
TRIGGER:-PT2H
END:VALARM
END:VEVENT
BEGIN:VEVENT
CLASS:PUBLIC
DTSTART:20240316T183000Z
DURATION:PT2H30M
STATUS:CONFIRMED
SUMMARY:Silpion Hamburg vs. TFVS Freiburg
DESCRIPTION:1. Herrenbundesliga Vorrunde (5. Spieltag)\nErgebnis: 35:42 (35:42)
UID:SM-B10316@dtfb.de
PRIORITY:5
SEQUENCE:1
CATEGORIES:SPORT
DTSTAMP:20260421T201601
BEGIN:VALARM
ACTION:DISPLAY
TRIGGER:-PT2H
END:VALARM
END:VEVENT
BEGIN:VEVENT
CLASS:PUBLIC
DTSTART:20240317T080000Z
DURATION:PT2H30M
STATUS:CONFIRMED
SUMMARY:SC Augsburg vs. Silpion Hamburg
DESCRIPTION:1. Herrenbundesliga Vorrunde (6. Spieltag)\nErgebnis: 38:42 (38:42)
UID:SM-B10322@dtfb.de
PRIORITY:5
SEQUENCE:1
CATEGORIES:SPORT
DTSTAMP:20260421T201601
BEGIN:VALARM
ACTION:DISPLAY
TRIGGER:-PT2H
END:VALARM
END:VEVENT
BEGIN:VEVENT
CLASS:PUBLIC
DTSTART:20240317T103000Z
DURATION:PT2H30M
STATUS:CONFIRMED
SUMMARY:Silpion Hamburg vs. Hannover 96
DESCRIPTION:1. Herrenbundesliga Vorrunde (7. Spieltag)\nErgebnis: 34:42 (34:42)
UID:SM-B10336@dtfb.de
PRIORITY:5
SEQUENCE:1
CATEGORIES:SPORT
DTSTAMP:20260421T201601
BEGIN:VALARM
ACTION:DISPLAY
TRIGGER:-PT2H
END:VALARM
END:VEVENT
BEGIN:VEVENT
CLASS:PUBLIC
DTSTART:20240317T130000Z
DURATION:PT2H30M
STATUS:CONFIRMED
SUMMARY:Kicker Crew Bonn vs. Silpion Hamburg
DESCRIPTION:1. Herrenbundesliga Vorrunde (8. Spieltag)\nErgebnis: 31:42 (31:42)
UID:SM-B10350@dtfb.de
PRIORITY:5
SEQUENCE:1
CATEGORIES:SPORT
DTSTAMP:20260421T201601
BEGIN:VALARM
ACTION:DISPLAY
TRIGGER:-PT2H
END:VALARM
END:VEVENT
BEGIN:VEVENT
CLASS:PUBLIC
DTSTART:20240317T150000Z
DURATION:PT2H30M
STATUS:CONFIRMED
SUMMARY:Silpion Hamburg vs. Eintracht Frankfurt
DESCRIPTION:1. Herrenbundesliga Vorrunde (9. Spieltag)\nErgebnis: 40:42 (40:42)
UID:SM-B10356@dtfb.de
PRIORITY:5
SEQUENCE:1
CATEGORIES:SPORT
DTSTAMP:20260421T201601
BEGIN:VALARM
ACTION:DISPLAY
TRIGGER:-PT2H
END:VALARM
END:VEVENT
BEGIN:VEVENT
CLASS:PUBLIC
DTSTART:20240608T083000Z
DURATION:PT2H30M
STATUS:CONFIRMED
SUMMARY:1. KC Kaiserslautern vs. Silpion Hamburg
DESCRIPTION:1. Herrenbundesliga Vorrunde (10. Spieltag)\nErgebnis: 42:31 (42:31)
UID:SM-B10854@dtfb.de
PRIORITY:5
SEQUENCE:1
CATEGORIES:SPORT
DTSTAMP:20260421T201601
BEGIN:VALARM
ACTION:DISPLAY
TRIGGER:-PT2H
END:VALARM
END:VEVENT
BEGIN:VEVENT
CLASS:PUBLIC
DTSTART:20240608T110000Z
DURATION:PT2H30M
STATUS:CONFIRMED
SUMMARY:Silpion Hamburg vs. TFC St. Wendel
DESCRIPTION:1. Herrenbundesliga Vorrunde (11. Spieltag)\nErgebnis: 42:38 (42:38)
UID:SM-B10862@dtfb.de
PRIORITY:5
SEQUENCE:1
CATEGORIES:SPORT
DTSTAMP:20260421T201601
BEGIN:VALARM
ACTION:DISPLAY
TRIGGER:-PT2H
END:VALARM
END:VEVENT
BEGIN:VEVENT
CLASS:PUBLIC
DTSTART:20240608T133000Z
DURATION:PT2H30M
STATUS:CONFIRMED
SUMMARY:Maschinerie Hamburg vs. Silpion Hamburg
DESCRIPTION:1. Herrenbundesliga Vorrunde (12. Spieltag)\nErgebnis: 35:42 (35:42)
UID:SM-B10873@dtfb.de
PRIORITY:5
SEQUENCE:1
CATEGORIES:SPORT
DTSTAMP:20260421T201601
BEGIN:VALARM
ACTION:DISPLAY
TRIGGER:-PT2H
END:VALARM
END:VEVENT
BEGIN:VEVENT
CLASS:PUBLIC
DTSTART:20240608T160000Z
DURATION:PT2H30M
STATUS:CONFIRMED
SUMMARY:BSC Überbande Hamburg vs. Silpion Hamburg
DESCRIPTION:1. Herrenbundesliga Vorrunde (13. Spieltag)\nErgebnis: 33:42 (33:42)
UID:SM-B10878@dtfb.de
PRIORITY:5
SEQUENCE:1
CATEGORIES:SPORT
DTSTAMP:20260421T201601
BEGIN:VALARM
ACTION:DISPLAY
TRIGGER:-PT2H
END:VALARM
END:VEVENT
BEGIN:VEVENT
CLASS:PUBLIC
DTSTART:20240609T073000Z
DURATION:PT2H30M
STATUS:CONFIRMED
SUMMARY:Silpion Hamburg vs. TFC Bamberg
DESCRIPTION:1. Herrenbundesliga Vorrunde (14. Spieltag)\nErgebnis: 42:38 (42:38)
UID:SM-B10892@dtfb.de
PRIORITY:5
SEQUENCE:1
CATEGORIES:SPORT
DTSTAMP:20260421T201601
BEGIN:VALARM
ACTION:DISPLAY
TRIGGER:-PT2H
END:VALARM
END:VEVENT
BEGIN:VEVENT
CLASS:PUBLIC
DTSTART:20240609T093000Z
DURATION:PT2H30M
STATUS:CONFIRMED
SUMMARY:Würzburger Kickers vs. Silpion Hamburg
DESCRIPTION:1. Herrenbundesliga Vorrunde (15. Spieltag)\nErgebnis: 32:42 (32:42)
UID:SM-B10900@dtfb.de
PRIORITY:5
SEQUENCE:1
CATEGORIES:SPORT
DTSTAMP:20260421T201601
BEGIN:VALARM
ACTION:DISPLAY
TRIGGER:-PT2H
END:VALARM
END:VEVENT
BEGIN:VEVENT
CLASS:PUBLIC
DTSTART:20240609T120000Z
DURATION:PT2H30M
STATUS:CONFIRMED
SUMMARY:Silpion Hamburg vs. Foos Club Köln
DESCRIPTION:1. Herrenbundesliga Vorrunde (16. Spieltag)\nErgebnis: 42:34 (42:34)
UID:SM-B10912@dtfb.de
PRIORITY:5
SEQUENCE:1
CATEGORIES:SPORT
DTSTAMP:20260421T201601
BEGIN:VALARM
ACTION:DISPLAY
TRIGGER:-PT2H
END:VALARM
END:VEVENT
BEGIN:VEVENT
CLASS:PUBLIC
DTSTART:20240921T083000Z
DURATION:PT2H30M
STATUS:CONFIRMED
SUMMARY:Silpion Hamburg vs. TFC Hülzweiler/Saarwellingen
DESCRIPTION:1. Herrenbundesliga Vorrunde (18. Spieltag)\nErgebnis: 42:33 (42:33)
UID:SM-B11131@dtfb.de
PRIORITY:5
SEQUENCE:1
CATEGORIES:SPORT
DTSTAMP:20260421T201601
BEGIN:VALARM
ACTION:DISPLAY
TRIGGER:-PT2H
END:VALARM
END:VEVENT
BEGIN:VEVENT
CLASS:PUBLIC
DTSTART:20240921T110000Z
DURATION:PT2H30M
STATUS:CONFIRMED
SUMMARY:Schovelkoten Münster vs. Silpion Hamburg
DESCRIPTION:1. Herrenbundesliga Vorrunde (19. Spieltag)\nErgebnis: 24:42 (24:42)
UID:SM-B11146@dtfb.de
PRIORITY:5
SEQUENCE:1
CATEGORIES:SPORT
DTSTAMP:20260421T201601
BEGIN:VALARM
ACTION:DISPLAY
TRIGGER:-PT2H
END:VALARM
END:VEVENT
BEGIN:VEVENT
CLASS:PUBLIC
DTSTART:20240921T133000Z
DURATION:PT2H30M
STATUS:CONFIRMED
SUMMARY:Silpion Hamburg vs. Tablesoccer Dortmund
DESCRIPTION:1. Herrenbundesliga Vorrunde (20. Spieltag)\nErgebnis: 42:32 (42:32)
UID:SM-B11151@dtfb.de
PRIORITY:5
SEQUENCE:1
CATEGORIES:SPORT
DTSTAMP:20260421T201601
BEGIN:VALARM
ACTION:DISPLAY
TRIGGER:-PT2H
END:VALARM
END:VEVENT
BEGIN:VEVENT
CLASS:PUBLIC
DTSTART:20240921T160000Z
DURATION:PT2H30M
STATUS:CONFIRMED
SUMMARY:Fivebar Hamburg vs. Silpion Hamburg
DESCRIPTION:1. Herrenbundesliga Vorrunde (21. Spieltag)\nErgebnis: 32:42 (32:42)
UID:SM-B11164@dtfb.de
PRIORITY:5
SEQUENCE:1
CATEGORIES:SPORT
DTSTAMP:20260421T201601
BEGIN:VALARM
ACTION:DISPLAY
TRIGGER:-PT2H
END:VALARM
END:VEVENT
BEGIN:VEVENT
CLASS:PUBLIC
DTSTART:20240922T073000Z
DURATION:PT2H30M
STATUS:CONFIRMED
SUMMARY:TFC St. Wendel vs. Silpion Hamburg
DESCRIPTION:1. Herrenbundesliga Hauptrunde (Platz 1-7)\nErgebnis: 41:43 (41:43)
UID:SM-B11313@dtfb.de
PRIORITY:5
SEQUENCE:1
CATEGORIES:SPORT
DTSTAMP:20260421T201601
BEGIN:VALARM
ACTION:DISPLAY
TRIGGER:-PT2H
END:VALARM
END:VEVENT
BEGIN:VEVENT
CLASS:PUBLIC
DTSTART:20240922T100000Z
DURATION:PT2H30M
STATUS:CONFIRMED
SUMMARY:Boofken Münster vs. Silpion Hamburg
DESCRIPTION:1. Herrenbundesliga Hauptrunde (Halbfinale)\nErgebnis: 33:42 (33:42)
UID:SM-B11340@dtfb.de
PRIORITY:5
SEQUENCE:1
CATEGORIES:SPORT
DTSTAMP:20260421T201601
BEGIN:VALARM
ACTION:DISPLAY
TRIGGER:-PT2H
END:VALARM
END:VEVENT
BEGIN:VEVENT
CLASS:PUBLIC
DTSTART:20240922T100000Z
DURATION:PT2H30M
STATUS:CONFIRMED
SUMMARY:Silpion Hamburg vs. Hannover 96
DESCRIPTION:1. Herrenbundesliga Hauptrunde (Finale)\nErgebnis: 42:38 (42:38)
UID:SM-B11344@dtfb.de
PRIORITY:5
SEQUENCE:1
CATEGORIES:SPORT
DTSTAMP:20260421T201601
BEGIN:VALARM
ACTION:DISPLAY
TRIGGER:-PT2H
END:VALARM
END:VEVENT
END:VCALENDAR
