BEGIN:VCALENDAR
VERSION:2.0
PRODID:PHP
METHOD:REQUEST
X-ORIGINAL-URL:https://dtfb.de/wettbewerbe/dtfl-bundesliga/herren/1-bundesliga/mannschaften?task=team_begegnungen_ical&id=4741
X-WR-CALNAME;VALUE=TEXT:Würzburger Kickers
BEGIN:VEVENT
CLASS:PUBLIC
DTSTART:20240316T093000Z
DURATION:PT2H30M
STATUS:CONFIRMED
SUMMARY:Würzburger Kickers vs. Tablesoccer Dortmund
DESCRIPTION:1. Herrenbundesliga Vorrunde (1. Spieltag)\nErgebnis: 42:40 (42:40)
UID:SM-B10274@dtfb.de
PRIORITY:5
SEQUENCE:1
CATEGORIES:SPORT
DTSTAMP:20260421T201601
BEGIN:VALARM
ACTION:DISPLAY
TRIGGER:-PT2H
END:VALARM
END:VEVENT
BEGIN:VEVENT
CLASS:PUBLIC
DTSTART:20240316T120000Z
DURATION:PT2H30M
STATUS:CONFIRMED
SUMMARY:Fivebar Hamburg vs. Würzburger Kickers
DESCRIPTION:1. Herrenbundesliga Vorrunde (2. Spieltag)\nErgebnis: 35:42 (35:42)
UID:SM-B10288@dtfb.de
PRIORITY:5
SEQUENCE:1
CATEGORIES:SPORT
DTSTAMP:20260421T201601
BEGIN:VALARM
ACTION:DISPLAY
TRIGGER:-PT2H
END:VALARM
END:VEVENT
BEGIN:VEVENT
CLASS:PUBLIC
DTSTART:20240316T140000Z
DURATION:PT2H30M
STATUS:CONFIRMED
SUMMARY:Würzburger Kickers vs. ASC Göttingen
DESCRIPTION:1. Herrenbundesliga Vorrunde (3. Spieltag)\nErgebnis: 38:42 (38:42)
UID:SM-B10294@dtfb.de
PRIORITY:5
SEQUENCE:1
CATEGORIES:SPORT
DTSTAMP:20260421T201601
BEGIN:VALARM
ACTION:DISPLAY
TRIGGER:-PT2H
END:VALARM
END:VEVENT
BEGIN:VEVENT
CLASS:PUBLIC
DTSTART:20240316T163000Z
DURATION:PT2H30M
STATUS:CONFIRMED
SUMMARY:TFBS Koblenz vs. Würzburger Kickers
DESCRIPTION:1. Herrenbundesliga Vorrunde (4. Spieltag)\nErgebnis: 42:28 (42:28)
UID:SM-B10306@dtfb.de
PRIORITY:5
SEQUENCE:1
CATEGORIES:SPORT
DTSTAMP:20260421T201601
BEGIN:VALARM
ACTION:DISPLAY
TRIGGER:-PT2H
END:VALARM
END:VEVENT
BEGIN:VEVENT
CLASS:PUBLIC
DTSTART:20240316T183000Z
DURATION:PT2H30M
STATUS:CONFIRMED
SUMMARY:Würzburger Kickers vs. TFC Devils Oldenburg
DESCRIPTION:1. Herrenbundesliga Vorrunde (5. Spieltag)\nErgebnis: 42:40 (42:40)
UID:SM-B10314@dtfb.de
PRIORITY:5
SEQUENCE:1
CATEGORIES:SPORT
DTSTAMP:20260421T201601
BEGIN:VALARM
ACTION:DISPLAY
TRIGGER:-PT2H
END:VALARM
END:VEVENT
BEGIN:VEVENT
CLASS:PUBLIC
DTSTART:20240317T080000Z
DURATION:PT2H30M
STATUS:CONFIRMED
SUMMARY:Boofken Münster vs. Würzburger Kickers
DESCRIPTION:1. Herrenbundesliga Vorrunde (6. Spieltag)\nErgebnis: 42:24 (42:24)
UID:SM-B10324@dtfb.de
PRIORITY:5
SEQUENCE:1
CATEGORIES:SPORT
DTSTAMP:20260421T201601
BEGIN:VALARM
ACTION:DISPLAY
TRIGGER:-PT2H
END:VALARM
END:VEVENT
BEGIN:VEVENT
CLASS:PUBLIC
DTSTART:20240317T103000Z
DURATION:PT2H30M
STATUS:CONFIRMED
SUMMARY:Würzburger Kickers vs. TFVS Freiburg
DESCRIPTION:1. Herrenbundesliga Vorrunde (7. Spieltag)\nErgebnis: 25:42 (25:42)
UID:SM-B10334@dtfb.de
PRIORITY:5
SEQUENCE:1
CATEGORIES:SPORT
DTSTAMP:20260421T201601
BEGIN:VALARM
ACTION:DISPLAY
TRIGGER:-PT2H
END:VALARM
END:VEVENT
BEGIN:VEVENT
CLASS:PUBLIC
DTSTART:20240317T130000Z
DURATION:PT2H30M
STATUS:CONFIRMED
SUMMARY:SC Augsburg vs. Würzburger Kickers
DESCRIPTION:1. Herrenbundesliga Vorrunde (8. Spieltag)\nErgebnis: 42:38 (42:38)
UID:SM-B10342@dtfb.de
PRIORITY:5
SEQUENCE:1
CATEGORIES:SPORT
DTSTAMP:20260421T201601
BEGIN:VALARM
ACTION:DISPLAY
TRIGGER:-PT2H
END:VALARM
END:VEVENT
BEGIN:VEVENT
CLASS:PUBLIC
DTSTART:20240317T150000Z
DURATION:PT2H30M
STATUS:CONFIRMED
SUMMARY:Würzburger Kickers vs. Hannover 96
DESCRIPTION:1. Herrenbundesliga Vorrunde (9. Spieltag)\nErgebnis: 36:42 (36:42)
UID:SM-B10354@dtfb.de
PRIORITY:5
SEQUENCE:1
CATEGORIES:SPORT
DTSTAMP:20260421T201601
BEGIN:VALARM
ACTION:DISPLAY
TRIGGER:-PT2H
END:VALARM
END:VEVENT
BEGIN:VEVENT
CLASS:PUBLIC
DTSTART:20240608T083000Z
DURATION:PT2H30M
STATUS:CONFIRMED
SUMMARY:Kicker Crew Bonn vs. Würzburger Kickers
DESCRIPTION:1. Herrenbundesliga Vorrunde (10. Spieltag)\nErgebnis: 42:40 (42:40)
UID:SM-B10856@dtfb.de
PRIORITY:5
SEQUENCE:1
CATEGORIES:SPORT
DTSTAMP:20260421T201601
BEGIN:VALARM
ACTION:DISPLAY
TRIGGER:-PT2H
END:VALARM
END:VEVENT
BEGIN:VEVENT
CLASS:PUBLIC
DTSTART:20240608T110000Z
DURATION:PT2H30M
STATUS:CONFIRMED
SUMMARY:Würzburger Kickers vs. Eintracht Frankfurt
DESCRIPTION:1. Herrenbundesliga Vorrunde (11. Spieltag)\nErgebnis: 26:42 (26:42)
UID:SM-B10860@dtfb.de
PRIORITY:5
SEQUENCE:1
CATEGORIES:SPORT
DTSTAMP:20260421T201601
BEGIN:VALARM
ACTION:DISPLAY
TRIGGER:-PT2H
END:VALARM
END:VEVENT
BEGIN:VEVENT
CLASS:PUBLIC
DTSTART:20240608T133000Z
DURATION:PT2H30M
STATUS:CONFIRMED
SUMMARY:1. KC Kaiserslautern vs. Würzburger Kickers
DESCRIPTION:1. Herrenbundesliga Vorrunde (12. Spieltag)\nErgebnis: 42:35 (42:35)
UID:SM-B10875@dtfb.de
PRIORITY:5
SEQUENCE:1
CATEGORIES:SPORT
DTSTAMP:20260421T201601
BEGIN:VALARM
ACTION:DISPLAY
TRIGGER:-PT2H
END:VALARM
END:VEVENT
BEGIN:VEVENT
CLASS:PUBLIC
DTSTART:20240608T160000Z
DURATION:PT2H30M
STATUS:CONFIRMED
SUMMARY:Würzburger Kickers vs. TFC St. Wendel
DESCRIPTION:1. Herrenbundesliga Vorrunde (13. Spieltag)\nErgebnis: 38:42 (38:42)
UID:SM-B10880@dtfb.de
PRIORITY:5
SEQUENCE:1
CATEGORIES:SPORT
DTSTAMP:20260421T201601
BEGIN:VALARM
ACTION:DISPLAY
TRIGGER:-PT2H
END:VALARM
END:VEVENT
BEGIN:VEVENT
CLASS:PUBLIC
DTSTART:20240609T073000Z
DURATION:PT2H30M
STATUS:CONFIRMED
SUMMARY:Maschinerie Hamburg vs. Würzburger Kickers
DESCRIPTION:1. Herrenbundesliga Vorrunde (14. Spieltag)\nErgebnis: 35:42 (35:42)
UID:SM-B10893@dtfb.de
PRIORITY:5
SEQUENCE:1
CATEGORIES:SPORT
DTSTAMP:20260421T201601
BEGIN:VALARM
ACTION:DISPLAY
TRIGGER:-PT2H
END:VALARM
END:VEVENT
BEGIN:VEVENT
CLASS:PUBLIC
DTSTART:20240609T093000Z
DURATION:PT2H30M
STATUS:CONFIRMED
SUMMARY:Würzburger Kickers vs. Silpion Hamburg
DESCRIPTION:1. Herrenbundesliga Vorrunde (15. Spieltag)\nErgebnis: 32:42 (32:42)
UID:SM-B10900@dtfb.de
PRIORITY:5
SEQUENCE:1
CATEGORIES:SPORT
DTSTAMP:20260421T201601
BEGIN:VALARM
ACTION:DISPLAY
TRIGGER:-PT2H
END:VALARM
END:VEVENT
BEGIN:VEVENT
CLASS:PUBLIC
DTSTART:20240609T120000Z
DURATION:PT2H30M
STATUS:CONFIRMED
SUMMARY:TFC Bamberg vs. Würzburger Kickers
DESCRIPTION:1. Herrenbundesliga Vorrunde (16. Spieltag)\nErgebnis: 40:42 (40:42)
UID:SM-B10911@dtfb.de
PRIORITY:5
SEQUENCE:1
CATEGORIES:SPORT
DTSTAMP:20260421T201601
BEGIN:VALARM
ACTION:DISPLAY
TRIGGER:-PT2H
END:VALARM
END:VEVENT
BEGIN:VEVENT
CLASS:PUBLIC
DTSTART:20240609T140000Z
DURATION:PT2H30M
STATUS:CONFIRMED
SUMMARY:BSC Überbande Hamburg vs. Würzburger Kickers
DESCRIPTION:1. Herrenbundesliga Vorrunde (17. Spieltag)\nErgebnis: 38:42 (38:42)
UID:SM-B10918@dtfb.de
PRIORITY:5
SEQUENCE:1
CATEGORIES:SPORT
DTSTAMP:20260421T201601
BEGIN:VALARM
ACTION:DISPLAY
TRIGGER:-PT2H
END:VALARM
END:VEVENT
BEGIN:VEVENT
CLASS:PUBLIC
DTSTART:20240921T083000Z
DURATION:PT2H30M
STATUS:CONFIRMED
SUMMARY:Würzburger Kickers vs. Foos Club Köln
DESCRIPTION:1. Herrenbundesliga Vorrunde (18. Spieltag)\nErgebnis: 42:33 (42:33)
UID:SM-B11130@dtfb.de
PRIORITY:5
SEQUENCE:1
CATEGORIES:SPORT
DTSTAMP:20260421T201601
BEGIN:VALARM
ACTION:DISPLAY
TRIGGER:-PT2H
END:VALARM
END:VEVENT
BEGIN:VEVENT
CLASS:PUBLIC
DTSTART:20240921T133000Z
DURATION:PT2H30M
STATUS:CONFIRMED
SUMMARY:Würzburger Kickers vs. TFC Hülzweiler/Saarwellingen
DESCRIPTION:1. Herrenbundesliga Vorrunde (20. Spieltag)\nErgebnis: 29:42 (29:42)
UID:SM-B11149@dtfb.de
PRIORITY:5
SEQUENCE:1
CATEGORIES:SPORT
DTSTAMP:20260421T201601
BEGIN:VALARM
ACTION:DISPLAY
TRIGGER:-PT2H
END:VALARM
END:VEVENT
BEGIN:VEVENT
CLASS:PUBLIC
DTSTART:20240921T160000Z
DURATION:PT2H30M
STATUS:CONFIRMED
SUMMARY:Schovelkoten Münster vs. Würzburger Kickers
DESCRIPTION:1. Herrenbundesliga Vorrunde (21. Spieltag)\nErgebnis: 35:42 (35:42)
UID:SM-B11166@dtfb.de
PRIORITY:5
SEQUENCE:1
CATEGORIES:SPORT
DTSTAMP:20260421T201601
BEGIN:VALARM
ACTION:DISPLAY
TRIGGER:-PT2H
END:VALARM
END:VEVENT
BEGIN:VEVENT
CLASS:PUBLIC
DTSTART:20240922T073000Z
DURATION:PT2H30M
STATUS:CONFIRMED
SUMMARY:Würzburger Kickers vs. Schovelkoten Münster
DESCRIPTION:1. Herrenbundesliga Hauptrunde (Platz 14-21)\nErgebnis: 42:29 (42:29)
UID:SM-B11318@dtfb.de
PRIORITY:5
SEQUENCE:1
CATEGORIES:SPORT
DTSTAMP:20260421T201601
BEGIN:VALARM
ACTION:DISPLAY
TRIGGER:-PT2H
END:VALARM
END:VEVENT
BEGIN:VEVENT
CLASS:PUBLIC
DTSTART:20240922T100000Z
DURATION:PT2H30M
STATUS:CONFIRMED
SUMMARY:Würzburger Kickers vs. TFC Bamberg
DESCRIPTION:1. Herrenbundesliga Hauptrunde (Platz 14-17)\nErgebnis: 42:39 (42:39)
UID:SM-B11337@dtfb.de
PRIORITY:5
SEQUENCE:1
CATEGORIES:SPORT
DTSTAMP:20260421T201601
BEGIN:VALARM
ACTION:DISPLAY
TRIGGER:-PT2H
END:VALARM
END:VEVENT
END:VCALENDAR
