BEGIN:VCALENDAR
VERSION:2.0
PRODID:PHP
METHOD:REQUEST
X-ORIGINAL-URL:https://dtfb.de/wettbewerbe/dtfl-bundesliga/herren/1-bundesliga/mannschaften?task=team_begegnungen_ical&id=4436
X-WR-CALNAME;VALUE=TEXT:Hannover 96
BEGIN:VEVENT
CLASS:PUBLIC
DTSTART:20240316T093000Z
DURATION:PT2H30M
STATUS:CONFIRMED
SUMMARY:BSC Überbande Hamburg vs. Hannover 96
DESCRIPTION:1. Herrenbundesliga Vorrunde (1. Spieltag)\nErgebnis: 34:42 (34:42)
UID:SM-B10272@dtfb.de
PRIORITY:5
SEQUENCE:1
CATEGORIES:SPORT
DTSTAMP:20260421T182817
END:VEVENT
BEGIN:VEVENT
CLASS:PUBLIC
DTSTART:20240316T120000Z
DURATION:PT2H30M
STATUS:CONFIRMED
SUMMARY:Hannover 96 vs. Kicker Crew Bonn
DESCRIPTION:1. Herrenbundesliga Vorrunde (2. Spieltag)\nErgebnis: 40:42 (40:42)
UID:SM-B10291@dtfb.de
PRIORITY:5
SEQUENCE:1
CATEGORIES:SPORT
DTSTAMP:20260421T182817
END:VEVENT
BEGIN:VEVENT
CLASS:PUBLIC
DTSTART:20240316T140000Z
DURATION:PT2H30M
STATUS:CONFIRMED
SUMMARY:Eintracht Frankfurt vs. Hannover 96
DESCRIPTION:1. Herrenbundesliga Vorrunde (3. Spieltag)\nErgebnis: 42:39 (42:39)
UID:SM-B10300@dtfb.de
PRIORITY:5
SEQUENCE:1
CATEGORIES:SPORT
DTSTAMP:20260421T182817
END:VEVENT
BEGIN:VEVENT
CLASS:PUBLIC
DTSTART:20240316T163000Z
DURATION:PT2H30M
STATUS:CONFIRMED
SUMMARY:Hannover 96 vs. 1. KC Kaiserslautern
DESCRIPTION:1. Herrenbundesliga Vorrunde (4. Spieltag)\nErgebnis: 35:42 (35:42)
UID:SM-B10311@dtfb.de
PRIORITY:5
SEQUENCE:1
CATEGORIES:SPORT
DTSTAMP:20260421T182817
END:VEVENT
BEGIN:VEVENT
CLASS:PUBLIC
DTSTART:20240316T183000Z
DURATION:PT2H30M
STATUS:CONFIRMED
SUMMARY:TFC St. Wendel vs. Hannover 96
DESCRIPTION:1. Herrenbundesliga Vorrunde (5. Spieltag)\nErgebnis: 39:42 (39:42)
UID:SM-B10318@dtfb.de
PRIORITY:5
SEQUENCE:1
CATEGORIES:SPORT
DTSTAMP:20260421T182817
END:VEVENT
BEGIN:VEVENT
CLASS:PUBLIC
DTSTART:20240317T080000Z
DURATION:PT2H30M
STATUS:CONFIRMED
SUMMARY:Hannover 96 vs. Maschinerie Hamburg
DESCRIPTION:1. Herrenbundesliga Vorrunde (6. Spieltag)\nErgebnis: 42:37 (42:37)
UID:SM-B10331@dtfb.de
PRIORITY:5
SEQUENCE:1
CATEGORIES:SPORT
DTSTAMP:20260421T182817
END:VEVENT
BEGIN:VEVENT
CLASS:PUBLIC
DTSTART:20240317T103000Z
DURATION:PT2H30M
STATUS:CONFIRMED
SUMMARY:Silpion Hamburg vs. Hannover 96
DESCRIPTION:1. Herrenbundesliga Vorrunde (7. Spieltag)\nErgebnis: 34:42 (34:42)
UID:SM-B10336@dtfb.de
PRIORITY:5
SEQUENCE:1
CATEGORIES:SPORT
DTSTAMP:20260421T182817
END:VEVENT
BEGIN:VEVENT
CLASS:PUBLIC
DTSTART:20240317T130000Z
DURATION:PT2H30M
STATUS:CONFIRMED
SUMMARY:Hannover 96 vs. TFC Bamberg
DESCRIPTION:1. Herrenbundesliga Vorrunde (8. Spieltag)\nErgebnis: 42:29 (42:29)
UID:SM-B10351@dtfb.de
PRIORITY:5
SEQUENCE:1
CATEGORIES:SPORT
DTSTAMP:20260421T182817
END:VEVENT
BEGIN:VEVENT
CLASS:PUBLIC
DTSTART:20240317T150000Z
DURATION:PT2H30M
STATUS:CONFIRMED
SUMMARY:Würzburger Kickers vs. Hannover 96
DESCRIPTION:1. Herrenbundesliga Vorrunde (9. Spieltag)\nErgebnis: 36:42 (36:42)
UID:SM-B10354@dtfb.de
PRIORITY:5
SEQUENCE:1
CATEGORIES:SPORT
DTSTAMP:20260421T182817
END:VEVENT
BEGIN:VEVENT
CLASS:PUBLIC
DTSTART:20240608T083000Z
DURATION:PT2H30M
STATUS:CONFIRMED
SUMMARY:Hannover 96 vs. Foos Club Köln
DESCRIPTION:1. Herrenbundesliga Vorrunde (10. Spieltag)\nErgebnis: 42:30 (42:30)
UID:SM-B10857@dtfb.de
PRIORITY:5
SEQUENCE:1
CATEGORIES:SPORT
DTSTAMP:20260421T182817
END:VEVENT
BEGIN:VEVENT
CLASS:PUBLIC
DTSTART:20240608T133000Z
DURATION:PT2H30M
STATUS:CONFIRMED
SUMMARY:Hannover 96 vs. TFC Hülzweiler/Saarwellingen
DESCRIPTION:1. Herrenbundesliga Vorrunde (12. Spieltag)\nErgebnis: 31:42 (31:42)
UID:SM-B10877@dtfb.de
PRIORITY:5
SEQUENCE:1
CATEGORIES:SPORT
DTSTAMP:20260421T182817
END:VEVENT
BEGIN:VEVENT
CLASS:PUBLIC
DTSTART:20240608T160000Z
DURATION:PT2H30M
STATUS:CONFIRMED
SUMMARY:Schovelkoten Münster vs. Hannover 96
DESCRIPTION:1. Herrenbundesliga Vorrunde (13. Spieltag)\nErgebnis: 36:42 (36:42)
UID:SM-B10886@dtfb.de
PRIORITY:5
SEQUENCE:1
CATEGORIES:SPORT
DTSTAMP:20260421T182817
END:VEVENT
BEGIN:VEVENT
CLASS:PUBLIC
DTSTART:20240609T073000Z
DURATION:PT2H30M
STATUS:CONFIRMED
SUMMARY:Hannover 96 vs. Tablesoccer Dortmund
DESCRIPTION:1. Herrenbundesliga Vorrunde (14. Spieltag)\nErgebnis: 42:39 (42:39)
UID:SM-B10897@dtfb.de
PRIORITY:5
SEQUENCE:1
CATEGORIES:SPORT
DTSTAMP:20260421T182817
END:VEVENT
BEGIN:VEVENT
CLASS:PUBLIC
DTSTART:20240609T093000Z
DURATION:PT2H30M
STATUS:CONFIRMED
SUMMARY:Fivebar Hamburg vs. Hannover 96
DESCRIPTION:1. Herrenbundesliga Vorrunde (15. Spieltag)\nErgebnis: 39:42 (39:42)
UID:SM-B10904@dtfb.de
PRIORITY:5
SEQUENCE:1
CATEGORIES:SPORT
DTSTAMP:20260421T182817
END:VEVENT
BEGIN:VEVENT
CLASS:PUBLIC
DTSTART:20240609T120000Z
DURATION:PT2H30M
STATUS:CONFIRMED
SUMMARY:Hannover 96 vs. ASC Göttingen
DESCRIPTION:1. Herrenbundesliga Vorrunde (16. Spieltag)\nErgebnis: 39:42 (39:42)
UID:SM-B10917@dtfb.de
PRIORITY:5
SEQUENCE:1
CATEGORIES:SPORT
DTSTAMP:20260421T182817
END:VEVENT
BEGIN:VEVENT
CLASS:PUBLIC
DTSTART:20240609T140000Z
DURATION:PT2H30M
STATUS:CONFIRMED
SUMMARY:TFBS Koblenz vs. Hannover 96
DESCRIPTION:1. Herrenbundesliga Vorrunde (17. Spieltag)\nErgebnis: 41:41 (41:41)
UID:SM-B10922@dtfb.de
PRIORITY:5
SEQUENCE:1
CATEGORIES:SPORT
DTSTAMP:20260421T182817
END:VEVENT
BEGIN:VEVENT
CLASS:PUBLIC
DTSTART:20240921T083000Z
DURATION:PT2H30M
STATUS:CONFIRMED
SUMMARY:Hannover 96 vs. TFC Devils Oldenburg
DESCRIPTION:1. Herrenbundesliga Vorrunde (18. Spieltag)\nErgebnis: 42:29 (42:29)
UID:SM-B11137@dtfb.de
PRIORITY:5
SEQUENCE:1
CATEGORIES:SPORT
DTSTAMP:20260421T182817
END:VEVENT
BEGIN:VEVENT
CLASS:PUBLIC
DTSTART:20240921T110000Z
DURATION:PT2H30M
STATUS:CONFIRMED
SUMMARY:Boofken Münster vs. Hannover 96
DESCRIPTION:1. Herrenbundesliga Vorrunde (19. Spieltag)\nErgebnis: 41:41 (41:41)
UID:SM-B11140@dtfb.de
PRIORITY:5
SEQUENCE:1
CATEGORIES:SPORT
DTSTAMP:20260421T182817
END:VEVENT
BEGIN:VEVENT
CLASS:PUBLIC
DTSTART:20240921T133000Z
DURATION:PT2H30M
STATUS:CONFIRMED
SUMMARY:Hannover 96 vs. TFVS Freiburg
DESCRIPTION:1. Herrenbundesliga Vorrunde (20. Spieltag)\nErgebnis: 42:32 (42:32)
UID:SM-B11157@dtfb.de
PRIORITY:5
SEQUENCE:1
CATEGORIES:SPORT
DTSTAMP:20260421T182817
END:VEVENT
BEGIN:VEVENT
CLASS:PUBLIC
DTSTART:20240921T160000Z
DURATION:PT2H30M
STATUS:CONFIRMED
SUMMARY:SC Augsburg vs. Hannover 96
DESCRIPTION:1. Herrenbundesliga Vorrunde (21. Spieltag)\nErgebnis: 41:41 (41:41)
UID:SM-B11158@dtfb.de
PRIORITY:5
SEQUENCE:1
CATEGORIES:SPORT
DTSTAMP:20260421T182817
END:VEVENT
BEGIN:VEVENT
CLASS:PUBLIC
DTSTART:20240922T073000Z
DURATION:PT2H30M
STATUS:CONFIRMED
SUMMARY:Eintracht Frankfurt vs. Hannover 96
DESCRIPTION:1. Herrenbundesliga Hauptrunde (Platz 1-7)\nErgebnis: 35:42 (35:42)
UID:SM-B11315@dtfb.de
PRIORITY:5
SEQUENCE:1
CATEGORIES:SPORT
DTSTAMP:20260421T182817
END:VEVENT
BEGIN:VEVENT
CLASS:PUBLIC
DTSTART:20240922T100000Z
DURATION:PT2H30M
STATUS:CONFIRMED
SUMMARY:Silpion Hamburg vs. Hannover 96
DESCRIPTION:1. Herrenbundesliga Hauptrunde (Finale)\nErgebnis: 42:38 (42:38)
UID:SM-B11344@dtfb.de
PRIORITY:5
SEQUENCE:1
CATEGORIES:SPORT
DTSTAMP:20260421T182817
END:VEVENT
BEGIN:VEVENT
CLASS:PUBLIC
DTSTART:20240922T100000Z
DURATION:PT2H30M
STATUS:CONFIRMED
SUMMARY:TFC Hülzweiler/Saarwellingen vs. Hannover 96
DESCRIPTION:1. Herrenbundesliga Hauptrunde (Halbfinale)\nErgebnis: 32:42 (32:42)
UID:SM-B11332@dtfb.de
PRIORITY:5
SEQUENCE:1
CATEGORIES:SPORT
DTSTAMP:20260421T182817
END:VEVENT
END:VCALENDAR
