BEGIN:VCALENDAR
VERSION:2.0
PRODID:PHP
METHOD:REQUEST
X-ORIGINAL-URL:https://dtfb.de/wettbewerbe/dtfl-bundesliga/herren/1-bundesliga/mannschaften?task=team_begegnungen_ical&id=4446
X-WR-CALNAME;VALUE=TEXT:SC Augsburg
BEGIN:VEVENT
CLASS:PUBLIC
DTSTART:20240316T093000Z
DURATION:PT2H30M
STATUS:CONFIRMED
SUMMARY:Kicker Crew Bonn vs. SC Augsburg
DESCRIPTION:1. Herrenbundesliga Vorrunde (1. Spieltag)\nErgebnis: 36:42 (36:42)
UID:SM-B10281@dtfb.de
PRIORITY:5
SEQUENCE:1
CATEGORIES:SPORT
DTSTAMP:20260421T183333
END:VEVENT
BEGIN:VEVENT
CLASS:PUBLIC
DTSTART:20240316T120000Z
DURATION:PT2H30M
STATUS:CONFIRMED
SUMMARY:SC Augsburg vs. Eintracht Frankfurt
DESCRIPTION:1. Herrenbundesliga Vorrunde (2. Spieltag)\nErgebnis: 40:42 (40:42)
UID:SM-B10282@dtfb.de
PRIORITY:5
SEQUENCE:1
CATEGORIES:SPORT
DTSTAMP:20260421T183333
END:VEVENT
BEGIN:VEVENT
CLASS:PUBLIC
DTSTART:20240316T140000Z
DURATION:PT2H30M
STATUS:CONFIRMED
SUMMARY:1. KC Kaiserslautern vs. SC Augsburg
DESCRIPTION:1. Herrenbundesliga Vorrunde (3. Spieltag)\nErgebnis: 42:35 (42:35)
UID:SM-B10299@dtfb.de
PRIORITY:5
SEQUENCE:1
CATEGORIES:SPORT
DTSTAMP:20260421T183333
END:VEVENT
BEGIN:VEVENT
CLASS:PUBLIC
DTSTART:20240316T163000Z
DURATION:PT2H30M
STATUS:CONFIRMED
SUMMARY:SC Augsburg vs. TFC St. Wendel
DESCRIPTION:1. Herrenbundesliga Vorrunde (4. Spieltag)\nErgebnis: 39:42 (39:42)
UID:SM-B10302@dtfb.de
PRIORITY:5
SEQUENCE:1
CATEGORIES:SPORT
DTSTAMP:20260421T183333
END:VEVENT
BEGIN:VEVENT
CLASS:PUBLIC
DTSTART:20240316T183000Z
DURATION:PT2H30M
STATUS:CONFIRMED
SUMMARY:Maschinerie Hamburg vs. SC Augsburg
DESCRIPTION:1. Herrenbundesliga Vorrunde (5. Spieltag)\nErgebnis: 42:40 (42:40)
UID:SM-B10317@dtfb.de
PRIORITY:5
SEQUENCE:1
CATEGORIES:SPORT
DTSTAMP:20260421T183333
END:VEVENT
BEGIN:VEVENT
CLASS:PUBLIC
DTSTART:20240317T080000Z
DURATION:PT2H30M
STATUS:CONFIRMED
SUMMARY:SC Augsburg vs. Silpion Hamburg
DESCRIPTION:1. Herrenbundesliga Vorrunde (6. Spieltag)\nErgebnis: 38:42 (38:42)
UID:SM-B10322@dtfb.de
PRIORITY:5
SEQUENCE:1
CATEGORIES:SPORT
DTSTAMP:20260421T183333
END:VEVENT
BEGIN:VEVENT
CLASS:PUBLIC
DTSTART:20240317T103000Z
DURATION:PT2H30M
STATUS:CONFIRMED
SUMMARY:TFC Bamberg vs. SC Augsburg
DESCRIPTION:1. Herrenbundesliga Vorrunde (7. Spieltag)\nErgebnis: 41:41 (41:41)
UID:SM-B10335@dtfb.de
PRIORITY:5
SEQUENCE:1
CATEGORIES:SPORT
DTSTAMP:20260421T183333
END:VEVENT
BEGIN:VEVENT
CLASS:PUBLIC
DTSTART:20240317T130000Z
DURATION:PT2H30M
STATUS:CONFIRMED
SUMMARY:SC Augsburg vs. Würzburger Kickers
DESCRIPTION:1. Herrenbundesliga Vorrunde (8. Spieltag)\nErgebnis: 42:38 (42:38)
UID:SM-B10342@dtfb.de
PRIORITY:5
SEQUENCE:1
CATEGORIES:SPORT
DTSTAMP:20260421T183333
END:VEVENT
BEGIN:VEVENT
CLASS:PUBLIC
DTSTART:20240317T150000Z
DURATION:PT2H30M
STATUS:CONFIRMED
SUMMARY:Foos Club Köln vs. SC Augsburg
DESCRIPTION:1. Herrenbundesliga Vorrunde (9. Spieltag)\nErgebnis: 42:34 (42:34)
UID:SM-B10353@dtfb.de
PRIORITY:5
SEQUENCE:1
CATEGORIES:SPORT
DTSTAMP:20260421T183333
END:VEVENT
BEGIN:VEVENT
CLASS:PUBLIC
DTSTART:20240608T110000Z
DURATION:PT2H30M
STATUS:CONFIRMED
SUMMARY:TFC Hülzweiler/Saarwellingen vs. SC Augsburg
DESCRIPTION:1. Herrenbundesliga Vorrunde (11. Spieltag)\nErgebnis: 42:24 (42:24)
UID:SM-B10867@dtfb.de
PRIORITY:5
SEQUENCE:1
CATEGORIES:SPORT
DTSTAMP:20260421T183333
END:VEVENT
BEGIN:VEVENT
CLASS:PUBLIC
DTSTART:20240608T133000Z
DURATION:PT2H30M
STATUS:CONFIRMED
SUMMARY:SC Augsburg vs. Schovelkoten Münster
DESCRIPTION:1. Herrenbundesliga Vorrunde (12. Spieltag)\nErgebnis: 42:38 (42:38)
UID:SM-B10868@dtfb.de
PRIORITY:5
SEQUENCE:1
CATEGORIES:SPORT
DTSTAMP:20260421T183333
END:VEVENT
BEGIN:VEVENT
CLASS:PUBLIC
DTSTART:20240608T160000Z
DURATION:PT2H30M
STATUS:CONFIRMED
SUMMARY:Tablesoccer Dortmund vs. SC Augsburg
DESCRIPTION:1. Herrenbundesliga Vorrunde (13. Spieltag)\nErgebnis: 29:42 (29:42)
UID:SM-B10885@dtfb.de
PRIORITY:5
SEQUENCE:1
CATEGORIES:SPORT
DTSTAMP:20260421T183333
END:VEVENT
BEGIN:VEVENT
CLASS:PUBLIC
DTSTART:20240609T073000Z
DURATION:PT2H30M
STATUS:CONFIRMED
SUMMARY:SC Augsburg vs. Fivebar Hamburg
DESCRIPTION:1. Herrenbundesliga Vorrunde (14. Spieltag)\nErgebnis: 28:42 (28:42)
UID:SM-B10888@dtfb.de
PRIORITY:5
SEQUENCE:1
CATEGORIES:SPORT
DTSTAMP:20260421T183333
END:VEVENT
BEGIN:VEVENT
CLASS:PUBLIC
DTSTART:20240609T093000Z
DURATION:PT2H30M
STATUS:CONFIRMED
SUMMARY:ASC Göttingen vs. SC Augsburg
DESCRIPTION:1. Herrenbundesliga Vorrunde (15. Spieltag)\nErgebnis: 30:42 (30:42)
UID:SM-B10903@dtfb.de
PRIORITY:5
SEQUENCE:1
CATEGORIES:SPORT
DTSTAMP:20260421T183333
END:VEVENT
BEGIN:VEVENT
CLASS:PUBLIC
DTSTART:20240609T120000Z
DURATION:PT2H30M
STATUS:CONFIRMED
SUMMARY:SC Augsburg vs. TFBS Koblenz
DESCRIPTION:1. Herrenbundesliga Vorrunde (16. Spieltag)\nErgebnis: 41:41 (41:41)
UID:SM-B10908@dtfb.de
PRIORITY:5
SEQUENCE:1
CATEGORIES:SPORT
DTSTAMP:20260421T183333
END:VEVENT
BEGIN:VEVENT
CLASS:PUBLIC
DTSTART:20240609T140000Z
DURATION:PT2H30M
STATUS:CONFIRMED
SUMMARY:TFC Devils Oldenburg vs. SC Augsburg
DESCRIPTION:1. Herrenbundesliga Vorrunde (17. Spieltag)\nErgebnis: 38:42 (38:42)
UID:SM-B10921@dtfb.de
PRIORITY:5
SEQUENCE:1
CATEGORIES:SPORT
DTSTAMP:20260421T183333
END:VEVENT
BEGIN:VEVENT
CLASS:PUBLIC
DTSTART:20240921T083000Z
DURATION:PT2H30M
STATUS:CONFIRMED
SUMMARY:SC Augsburg vs. Boofken Münster
DESCRIPTION:1. Herrenbundesliga Vorrunde (18. Spieltag)\nErgebnis: 25:42 (25:42)
UID:SM-B11128@dtfb.de
PRIORITY:5
SEQUENCE:1
CATEGORIES:SPORT
DTSTAMP:20260421T183333
END:VEVENT
BEGIN:VEVENT
CLASS:PUBLIC
DTSTART:20240921T110000Z
DURATION:PT2H30M
STATUS:CONFIRMED
SUMMARY:TFVS Freiburg vs. SC Augsburg
DESCRIPTION:1. Herrenbundesliga Vorrunde (19. Spieltag)\nErgebnis: 42:36 (42:36)
UID:SM-B11139@dtfb.de
PRIORITY:5
SEQUENCE:1
CATEGORIES:SPORT
DTSTAMP:20260421T183333
END:VEVENT
BEGIN:VEVENT
CLASS:PUBLIC
DTSTART:20240921T133000Z
DURATION:PT2H30M
STATUS:CONFIRMED
SUMMARY:BSC Überbande Hamburg vs. SC Augsburg
DESCRIPTION:1. Herrenbundesliga Vorrunde (20. Spieltag)\nErgebnis: 35:42 (35:42)
UID:SM-B11148@dtfb.de
PRIORITY:5
SEQUENCE:1
CATEGORIES:SPORT
DTSTAMP:20260421T183333
END:VEVENT
BEGIN:VEVENT
CLASS:PUBLIC
DTSTART:20240921T160000Z
DURATION:PT2H30M
STATUS:CONFIRMED
SUMMARY:SC Augsburg vs. Hannover 96
DESCRIPTION:1. Herrenbundesliga Vorrunde (21. Spieltag)\nErgebnis: 41:41 (41:41)
UID:SM-B11158@dtfb.de
PRIORITY:5
SEQUENCE:1
CATEGORIES:SPORT
DTSTAMP:20260421T183333
END:VEVENT
BEGIN:VEVENT
CLASS:PUBLIC
DTSTART:20240922T073000Z
DURATION:PT2H30M
STATUS:CONFIRMED
SUMMARY:SC Augsburg vs. Fivebar Hamburg
DESCRIPTION:1. Herrenbundesliga Hauptrunde (Platz 8-13)\nErgebnis: 42:39 (42:39)
UID:SM-B11322@dtfb.de
PRIORITY:5
SEQUENCE:1
CATEGORIES:SPORT
DTSTAMP:20260421T183333
END:VEVENT
BEGIN:VEVENT
CLASS:PUBLIC
DTSTART:20240922T100000Z
DURATION:PT2H30M
STATUS:CONFIRMED
SUMMARY:SC Augsburg vs. TFC Devils Oldenburg
DESCRIPTION:1. Herrenbundesliga Hauptrunde (Platz 8-11)\nErgebnis: 31:42 (31:42)
UID:SM-B11334@dtfb.de
PRIORITY:5
SEQUENCE:1
CATEGORIES:SPORT
DTSTAMP:20260421T183333
END:VEVENT
END:VCALENDAR
