BEGIN:VCALENDAR
VERSION:2.0
PRODID:PHP
METHOD:REQUEST
X-ORIGINAL-URL:https://dtfb.de/wettbewerbe/dtfl-bundesliga/herren/1-bundesliga/mannschaften?task=team_begegnungen_ical&id=4734
X-WR-CALNAME;VALUE=TEXT:Tablesoccer Dortmund
BEGIN:VEVENT
CLASS:PUBLIC
DTSTART:20240316T093000Z
DURATION:PT2H30M
STATUS:CONFIRMED
SUMMARY:Würzburger Kickers vs. Tablesoccer Dortmund
DESCRIPTION:1. Herrenbundesliga Vorrunde (1. Spieltag)\nErgebnis: 42:40 (42:40)
UID:SM-B10274@dtfb.de
PRIORITY:5
SEQUENCE:1
CATEGORIES:SPORT
DTSTAMP:20260421T201438
END:VEVENT
BEGIN:VEVENT
CLASS:PUBLIC
DTSTART:20240316T120000Z
DURATION:PT2H30M
STATUS:CONFIRMED
SUMMARY:Tablesoccer Dortmund vs. Foos Club Köln
DESCRIPTION:1. Herrenbundesliga Vorrunde (2. Spieltag)\nErgebnis: 35:42 (35:42)
UID:SM-B10289@dtfb.de
PRIORITY:5
SEQUENCE:1
CATEGORIES:SPORT
DTSTAMP:20260421T201438
END:VEVENT
BEGIN:VEVENT
CLASS:PUBLIC
DTSTART:20240316T163000Z
DURATION:PT2H30M
STATUS:CONFIRMED
SUMMARY:Tablesoccer Dortmund vs. TFC Hülzweiler/Saarwellingen
DESCRIPTION:1. Herrenbundesliga Vorrunde (4. Spieltag)\nErgebnis: 39:42 (39:42)
UID:SM-B10308@dtfb.de
PRIORITY:5
SEQUENCE:1
CATEGORIES:SPORT
DTSTAMP:20260421T201438
END:VEVENT
BEGIN:VEVENT
CLASS:PUBLIC
DTSTART:20240316T183000Z
DURATION:PT2H30M
STATUS:CONFIRMED
SUMMARY:Schovelkoten Münster vs. Tablesoccer Dortmund
DESCRIPTION:1. Herrenbundesliga Vorrunde (5. Spieltag)\nErgebnis: 40:42 (40:42)
UID:SM-B10320@dtfb.de
PRIORITY:5
SEQUENCE:1
CATEGORIES:SPORT
DTSTAMP:20260421T201438
END:VEVENT
BEGIN:VEVENT
CLASS:PUBLIC
DTSTART:20240317T080000Z
DURATION:PT2H30M
STATUS:CONFIRMED
SUMMARY:Tablesoccer Dortmund vs. BSC Überbande Hamburg
DESCRIPTION:1. Herrenbundesliga Vorrunde (6. Spieltag)\nErgebnis: 30:42 (30:42)
UID:SM-B10328@dtfb.de
PRIORITY:5
SEQUENCE:1
CATEGORIES:SPORT
DTSTAMP:20260421T201438
END:VEVENT
BEGIN:VEVENT
CLASS:PUBLIC
DTSTART:20240317T103000Z
DURATION:PT2H30M
STATUS:CONFIRMED
SUMMARY:Tablesoccer Dortmund vs. Fivebar Hamburg
DESCRIPTION:1. Herrenbundesliga Vorrunde (7. Spieltag)\nErgebnis: 39:42 (39:42)
UID:SM-B10339@dtfb.de
PRIORITY:5
SEQUENCE:1
CATEGORIES:SPORT
DTSTAMP:20260421T201438
END:VEVENT
BEGIN:VEVENT
CLASS:PUBLIC
DTSTART:20240317T130000Z
DURATION:PT2H30M
STATUS:CONFIRMED
SUMMARY:ASC Göttingen vs. Tablesoccer Dortmund
DESCRIPTION:1. Herrenbundesliga Vorrunde (8. Spieltag)\nErgebnis: 42:33 (42:33)
UID:SM-B10346@dtfb.de
PRIORITY:5
SEQUENCE:1
CATEGORIES:SPORT
DTSTAMP:20260421T201438
END:VEVENT
BEGIN:VEVENT
CLASS:PUBLIC
DTSTART:20240317T150000Z
DURATION:PT2H30M
STATUS:CONFIRMED
SUMMARY:Tablesoccer Dortmund vs. TFBS Koblenz
DESCRIPTION:1. Herrenbundesliga Vorrunde (9. Spieltag)\nErgebnis: 40:42 (40:42)
UID:SM-B10359@dtfb.de
PRIORITY:5
SEQUENCE:1
CATEGORIES:SPORT
DTSTAMP:20260421T201438
END:VEVENT
BEGIN:VEVENT
CLASS:PUBLIC
DTSTART:20240608T083000Z
DURATION:PT2H30M
STATUS:CONFIRMED
SUMMARY:TFC Devils Oldenburg vs. Tablesoccer Dortmund
DESCRIPTION:1. Herrenbundesliga Vorrunde (10. Spieltag)\nErgebnis: 40:42 (40:42)
UID:SM-B10850@dtfb.de
PRIORITY:5
SEQUENCE:1
CATEGORIES:SPORT
DTSTAMP:20260421T201438
END:VEVENT
BEGIN:VEVENT
CLASS:PUBLIC
DTSTART:20240608T110000Z
DURATION:PT2H30M
STATUS:CONFIRMED
SUMMARY:Tablesoccer Dortmund vs. Boofken Münster
DESCRIPTION:1. Herrenbundesliga Vorrunde (11. Spieltag)\nErgebnis: 33:42 (33:42)
UID:SM-B10865@dtfb.de
PRIORITY:5
SEQUENCE:1
CATEGORIES:SPORT
DTSTAMP:20260421T201438
END:VEVENT
BEGIN:VEVENT
CLASS:PUBLIC
DTSTART:20240608T133000Z
DURATION:PT2H30M
STATUS:CONFIRMED
SUMMARY:TFVS Freiburg vs. Tablesoccer Dortmund
DESCRIPTION:1. Herrenbundesliga Vorrunde (12. Spieltag)\nErgebnis: 42:36 (42:36)
UID:SM-B10869@dtfb.de
PRIORITY:5
SEQUENCE:1
CATEGORIES:SPORT
DTSTAMP:20260421T201438
END:VEVENT
BEGIN:VEVENT
CLASS:PUBLIC
DTSTART:20240608T160000Z
DURATION:PT2H30M
STATUS:CONFIRMED
SUMMARY:Tablesoccer Dortmund vs. SC Augsburg
DESCRIPTION:1. Herrenbundesliga Vorrunde (13. Spieltag)\nErgebnis: 29:42 (29:42)
UID:SM-B10885@dtfb.de
PRIORITY:5
SEQUENCE:1
CATEGORIES:SPORT
DTSTAMP:20260421T201438
END:VEVENT
BEGIN:VEVENT
CLASS:PUBLIC
DTSTART:20240609T073000Z
DURATION:PT2H30M
STATUS:CONFIRMED
SUMMARY:Hannover 96 vs. Tablesoccer Dortmund
DESCRIPTION:1. Herrenbundesliga Vorrunde (14. Spieltag)\nErgebnis: 42:39 (42:39)
UID:SM-B10897@dtfb.de
PRIORITY:5
SEQUENCE:1
CATEGORIES:SPORT
DTSTAMP:20260421T201438
END:VEVENT
BEGIN:VEVENT
CLASS:PUBLIC
DTSTART:20240609T093000Z
DURATION:PT2H30M
STATUS:CONFIRMED
SUMMARY:Tablesoccer Dortmund vs. Kicker Crew Bonn
DESCRIPTION:1. Herrenbundesliga Vorrunde (15. Spieltag)\nErgebnis: 30:42 (30:42)
UID:SM-B10905@dtfb.de
PRIORITY:5
SEQUENCE:1
CATEGORIES:SPORT
DTSTAMP:20260421T201438
END:VEVENT
BEGIN:VEVENT
CLASS:PUBLIC
DTSTART:20240609T120000Z
DURATION:PT2H30M
STATUS:CONFIRMED
SUMMARY:Eintracht Frankfurt vs. Tablesoccer Dortmund
DESCRIPTION:1. Herrenbundesliga Vorrunde (16. Spieltag)\nErgebnis: 41:41 (41:41)
UID:SM-B10915@dtfb.de
PRIORITY:5
SEQUENCE:1
CATEGORIES:SPORT
DTSTAMP:20260421T201438
END:VEVENT
BEGIN:VEVENT
CLASS:PUBLIC
DTSTART:20240609T140000Z
DURATION:PT2H30M
STATUS:CONFIRMED
SUMMARY:Tablesoccer Dortmund vs. 1. KC Kaiserslautern
DESCRIPTION:1. Herrenbundesliga Vorrunde (17. Spieltag)\nErgebnis: 42:33 (42:33)
UID:SM-B10925@dtfb.de
PRIORITY:5
SEQUENCE:1
CATEGORIES:SPORT
DTSTAMP:20260421T201438
END:VEVENT
BEGIN:VEVENT
CLASS:PUBLIC
DTSTART:20240921T083000Z
DURATION:PT2H30M
STATUS:CONFIRMED
SUMMARY:TFC St. Wendel vs. Tablesoccer Dortmund
DESCRIPTION:1. Herrenbundesliga Vorrunde (18. Spieltag)\nErgebnis: 42:32 (42:32)
UID:SM-B11133@dtfb.de
PRIORITY:5
SEQUENCE:1
CATEGORIES:SPORT
DTSTAMP:20260421T201438
END:VEVENT
BEGIN:VEVENT
CLASS:PUBLIC
DTSTART:20240921T110000Z
DURATION:PT2H30M
STATUS:CONFIRMED
SUMMARY:Tablesoccer Dortmund vs. Maschinerie Hamburg
DESCRIPTION:1. Herrenbundesliga Vorrunde (19. Spieltag)\nErgebnis: 42:29 (42:29)
UID:SM-B11145@dtfb.de
PRIORITY:5
SEQUENCE:1
CATEGORIES:SPORT
DTSTAMP:20260421T201438
END:VEVENT
BEGIN:VEVENT
CLASS:PUBLIC
DTSTART:20240921T133000Z
DURATION:PT2H30M
STATUS:CONFIRMED
SUMMARY:Silpion Hamburg vs. Tablesoccer Dortmund
DESCRIPTION:1. Herrenbundesliga Vorrunde (20. Spieltag)\nErgebnis: 42:32 (42:32)
UID:SM-B11151@dtfb.de
PRIORITY:5
SEQUENCE:1
CATEGORIES:SPORT
DTSTAMP:20260421T201438
END:VEVENT
BEGIN:VEVENT
CLASS:PUBLIC
DTSTART:20240921T160000Z
DURATION:PT2H30M
STATUS:CONFIRMED
SUMMARY:Tablesoccer Dortmund vs. TFC Bamberg
DESCRIPTION:1. Herrenbundesliga Vorrunde (21. Spieltag)\nErgebnis: 40:42 (40:42)
UID:SM-B11165@dtfb.de
PRIORITY:5
SEQUENCE:1
CATEGORIES:SPORT
DTSTAMP:20260421T201438
END:VEVENT
BEGIN:VEVENT
CLASS:PUBLIC
DTSTART:20240922T073000Z
DURATION:PT2H30M
STATUS:CONFIRMED
SUMMARY:Foos Club Köln vs. Tablesoccer Dortmund
DESCRIPTION:1. Herrenbundesliga Hauptrunde (Platz 14-21)\nErgebnis: 35:42 (35:42)
UID:SM-B11320@dtfb.de
PRIORITY:5
SEQUENCE:1
CATEGORIES:SPORT
DTSTAMP:20260421T201438
END:VEVENT
BEGIN:VEVENT
CLASS:PUBLIC
DTSTART:20240922T100000Z
DURATION:PT2H30M
STATUS:CONFIRMED
SUMMARY:BSC Überbande Hamburg vs. Tablesoccer Dortmund
DESCRIPTION:1. Herrenbundesliga Hauptrunde (Platz 14-17)\nErgebnis: 33:42 (33:42)
UID:SM-B11336@dtfb.de
PRIORITY:5
SEQUENCE:1
CATEGORIES:SPORT
DTSTAMP:20260421T201438
END:VEVENT
END:VCALENDAR
