BEGIN:VCALENDAR
VERSION:2.0
PRODID:PHP
METHOD:REQUEST
X-ORIGINAL-URL:https://dtfb.de/wettbewerbe/dtfl-bundesliga/junioren/tabelle?task=team_begegnungen_ical&id=4415
X-WR-CALNAME;VALUE=TEXT:Kicker Masters Köln
BEGIN:VEVENT
CLASS:PUBLIC
DTSTART:20231014T090000Z
DURATION:PT2H30M
STATUS:CONFIRMED
SUMMARY:Kicker Masters Köln vs. TSC Fränkisch-Crumbach
DESCRIPTION:Junioren Bundesliga Vorrunde (1. Spieltag)\nErgebnis: 22:25 (22:25)
UID:SM-B10232@dtfb.de
PRIORITY:5
SEQUENCE:1
CATEGORIES:SPORT
DTSTAMP:20260421T211834
BEGIN:VALARM
ACTION:DISPLAY
TRIGGER:-PT2H
END:VALARM
END:VEVENT
BEGIN:VEVENT
CLASS:PUBLIC
DTSTART:20231014T113000Z
DURATION:PT2H30M
STATUS:CONFIRMED
SUMMARY:Kicker Masters Köln vs. KC Gehlenberg
DESCRIPTION:Junioren Bundesliga Vorrunde (2. Spieltag)\nErgebnis: 25:12 (25:12)
UID:SM-B10235@dtfb.de
PRIORITY:5
SEQUENCE:1
CATEGORIES:SPORT
DTSTAMP:20260421T211834
BEGIN:VALARM
ACTION:DISPLAY
TRIGGER:-PT2H
END:VALARM
END:VEVENT
BEGIN:VEVENT
CLASS:PUBLIC
DTSTART:20231014T123000Z
DURATION:PT2H30M
STATUS:CONFIRMED
SUMMARY:Kicker Masters Köln vs. Kick'IN Ingolstadt
DESCRIPTION:Junioren Bundesliga Vorrunde (3. Spieltag)\nErgebnis: 25:17 (25:17)
UID:SM-B10243@dtfb.de
PRIORITY:5
SEQUENCE:1
CATEGORIES:SPORT
DTSTAMP:20260421T211834
BEGIN:VALARM
ACTION:DISPLAY
TRIGGER:-PT2H
END:VALARM
END:VEVENT
BEGIN:VEVENT
CLASS:PUBLIC
DTSTART:20231014T141500Z
DURATION:PT2H30M
STATUS:CONFIRMED
SUMMARY:Kicker Masters Köln vs. MKK Monster Ninjas
DESCRIPTION:Junioren Bundesliga Vorrunde (4. Spieltag)\nErgebnis: 25:20 (25:20)
UID:SM-B10247@dtfb.de
PRIORITY:5
SEQUENCE:1
CATEGORIES:SPORT
DTSTAMP:20260421T211834
BEGIN:VALARM
ACTION:DISPLAY
TRIGGER:-PT2H
END:VALARM
END:VEVENT
BEGIN:VEVENT
CLASS:PUBLIC
DTSTART:20231014T160000Z
DURATION:PT2H30M
STATUS:CONFIRMED
SUMMARY:Kicker Masters Köln vs. St. Wendel
DESCRIPTION:Junioren Bundesliga Vorrunde (5. Spieltag)\nErgebnis: 18:25 (18:25)
UID:SM-B10257@dtfb.de
PRIORITY:5
SEQUENCE:1
CATEGORIES:SPORT
DTSTAMP:20260421T211834
BEGIN:VALARM
ACTION:DISPLAY
TRIGGER:-PT2H
END:VALARM
END:VEVENT
BEGIN:VEVENT
CLASS:PUBLIC
DTSTART:20231015T080000Z
DURATION:PT2H30M
STATUS:CONFIRMED
SUMMARY:Kicker Masters Köln vs. New Way Cubs
DESCRIPTION:Junioren Bundesliga Hauptrunde (Viertelfinale)\nErgebnis: 25:22 (25:22)
UID:SM-B10258@dtfb.de
PRIORITY:5
SEQUENCE:1
CATEGORIES:SPORT
DTSTAMP:20260421T211834
BEGIN:VALARM
ACTION:DISPLAY
TRIGGER:-PT2H
END:VALARM
END:VEVENT
BEGIN:VEVENT
CLASS:PUBLIC
DTSTART:20231015T090000Z
DURATION:PT2H30M
STATUS:CONFIRMED
SUMMARY:St. Wendel vs. Kicker Masters Köln
DESCRIPTION:Junioren Bundesliga Hauptrunde (Halbfinale)\nErgebnis: 25:23 (25:23)
UID:SM-B10266@dtfb.de
PRIORITY:5
SEQUENCE:1
CATEGORIES:SPORT
DTSTAMP:20260421T211834
BEGIN:VALARM
ACTION:DISPLAY
TRIGGER:-PT2H
END:VALARM
END:VEVENT
BEGIN:VEVENT
CLASS:PUBLIC
DTSTART:20231015T110000Z
DURATION:PT2H30M
STATUS:CONFIRMED
SUMMARY:Kicker Masters Köln vs. TST Telgte 2
DESCRIPTION:Junioren Bundesliga Hauptrunde (Platz 3)\nErgebnis: 25:18 (25:18)
UID:SM-B10270@dtfb.de
PRIORITY:5
SEQUENCE:1
CATEGORIES:SPORT
DTSTAMP:20260421T211834
BEGIN:VALARM
ACTION:DISPLAY
TRIGGER:-PT2H
END:VALARM
END:VEVENT
END:VCALENDAR
