BEGIN:VCALENDAR
VERSION:2.0
PRODID:PHP
METHOD:REQUEST
X-ORIGINAL-URL:https://dtfb.de/wettbewerbe/dtfl-bundesliga/junioren/tabelle?task=team_begegnungen_ical&id=4421
X-WR-CALNAME;VALUE=TEXT:TST Telgte 1
BEGIN:VEVENT
CLASS:PUBLIC
DTSTART:20231014T090000Z
DURATION:PT2H30M
STATUS:CONFIRMED
SUMMARY:MKK Monster Ninjas vs. TST Telgte 1
DESCRIPTION:Junioren Bundesliga Vorrunde (1. Spieltag)\nErgebnis: 25:19 (25:19)
UID:SM-B10233@dtfb.de
PRIORITY:5
SEQUENCE:1
CATEGORIES:SPORT
DTSTAMP:20260421T201334
BEGIN:VALARM
ACTION:DISPLAY
TRIGGER:-PT2H
END:VALARM
END:VEVENT
BEGIN:VEVENT
CLASS:PUBLIC
DTSTART:20231014T123000Z
DURATION:PT2H30M
STATUS:CONFIRMED
SUMMARY:TST Telgte 1 vs. TSC Fränkisch-Crumbach
DESCRIPTION:Junioren Bundesliga Vorrunde (3. Spieltag)\nErgebnis: 7:25 (7:25)
UID:SM-B10240@dtfb.de
PRIORITY:5
SEQUENCE:1
CATEGORIES:SPORT
DTSTAMP:20260421T201334
BEGIN:VALARM
ACTION:DISPLAY
TRIGGER:-PT2H
END:VALARM
END:VEVENT
BEGIN:VEVENT
CLASS:PUBLIC
DTSTART:20231014T141500Z
DURATION:PT2H30M
STATUS:CONFIRMED
SUMMARY:MKK Monster der Herzen vs. TST Telgte 1
DESCRIPTION:Junioren Bundesliga Vorrunde (4. Spieltag)\nErgebnis: 21:25 (21:25)
UID:SM-B10249@dtfb.de
PRIORITY:5
SEQUENCE:1
CATEGORIES:SPORT
DTSTAMP:20260421T201334
BEGIN:VALARM
ACTION:DISPLAY
TRIGGER:-PT2H
END:VALARM
END:VEVENT
BEGIN:VEVENT
CLASS:PUBLIC
DTSTART:20231014T160000Z
DURATION:PT2H30M
STATUS:CONFIRMED
SUMMARY:FC St. Pauli vs. TST Telgte 1
DESCRIPTION:Junioren Bundesliga Vorrunde (5. Spieltag)\nErgebnis: 25:10 (25:10)
UID:SM-B10254@dtfb.de
PRIORITY:5
SEQUENCE:1
CATEGORIES:SPORT
DTSTAMP:20260421T201334
BEGIN:VALARM
ACTION:DISPLAY
TRIGGER:-PT2H
END:VALARM
END:VEVENT
BEGIN:VEVENT
CLASS:PUBLIC
DTSTART:20231015T080000Z
DURATION:PT2H30M
STATUS:CONFIRMED
SUMMARY:TST Telgte 1 vs. TFC Devils Oldenburg
DESCRIPTION:Junioren Bundesliga Hauptrunde (Platz 7-13)\nErgebnis: 25:17 (25:17)
UID:SM-B10260@dtfb.de
PRIORITY:5
SEQUENCE:1
CATEGORIES:SPORT
DTSTAMP:20260421T201334
BEGIN:VALARM
ACTION:DISPLAY
TRIGGER:-PT2H
END:VALARM
END:VEVENT
BEGIN:VEVENT
CLASS:PUBLIC
DTSTART:20231015T090000Z
DURATION:PT2H30M
STATUS:CONFIRMED
SUMMARY:MKK Monster Ninjas vs. TST Telgte 1
DESCRIPTION:Junioren Bundesliga Hauptrunde (Platz 7-10)\nErgebnis: 25:10 (25:10)
UID:SM-B10263@dtfb.de
PRIORITY:5
SEQUENCE:1
CATEGORIES:SPORT
DTSTAMP:20260421T201334
BEGIN:VALARM
ACTION:DISPLAY
TRIGGER:-PT2H
END:VALARM
END:VEVENT
BEGIN:VEVENT
CLASS:PUBLIC
DTSTART:20231015T090000Z
DURATION:PT2H30M
STATUS:CONFIRMED
SUMMARY:TST Telgte 1 vs. KC Gehlenberg
DESCRIPTION:Junioren Bundesliga Hauptrunde (Platz 9-10)\nErgebnis: 13:25 (13:25)
UID:SM-B10268@dtfb.de
PRIORITY:5
SEQUENCE:1
CATEGORIES:SPORT
DTSTAMP:20260421T201334
BEGIN:VALARM
ACTION:DISPLAY
TRIGGER:-PT2H
END:VALARM
END:VEVENT
END:VCALENDAR
