BEGIN:VCALENDAR
VERSION:2.0
PRODID:PHP
METHOD:REQUEST
X-ORIGINAL-URL:https://dtfb.de/wettbewerbe/dtfl-bundesliga/junioren/tabelle?task=team_begegnungen_ical&id=4399
X-WR-CALNAME;VALUE=TEXT:New Way Cubs
BEGIN:VEVENT
CLASS:PUBLIC
DTSTART:20231014T090000Z
DURATION:PT2H30M
STATUS:CONFIRMED
SUMMARY:Gustave-Eiffel-Schule Berlin vs. New Way Cubs
DESCRIPTION:Junioren Bundesliga Vorrunde (1. Spieltag)\nErgebnis: 8:25 (8:25)
UID:SM-B10228@dtfb.de
PRIORITY:5
SEQUENCE:1
CATEGORIES:SPORT
DTSTAMP:20260421T195657
END:VEVENT
BEGIN:VEVENT
CLASS:PUBLIC
DTSTART:20231014T113000Z
DURATION:PT2H30M
STATUS:CONFIRMED
SUMMARY:New Way Cubs vs. MKK Monster Ninjas
DESCRIPTION:Junioren Bundesliga Vorrunde (2. Spieltag)\nErgebnis: 25:23 (25:23)
UID:SM-B10238@dtfb.de
PRIORITY:5
SEQUENCE:1
CATEGORIES:SPORT
DTSTAMP:20260421T195657
END:VEVENT
BEGIN:VEVENT
CLASS:PUBLIC
DTSTART:20231014T123000Z
DURATION:PT2H30M
STATUS:CONFIRMED
SUMMARY:New Way Cubs vs. FC St. Pauli
DESCRIPTION:Junioren Bundesliga Vorrunde (3. Spieltag)\nErgebnis: 25:18 (25:18)
UID:SM-B10245@dtfb.de
PRIORITY:5
SEQUENCE:1
CATEGORIES:SPORT
DTSTAMP:20260421T195657
END:VEVENT
BEGIN:VEVENT
CLASS:PUBLIC
DTSTART:20231014T141500Z
DURATION:PT2H30M
STATUS:CONFIRMED
SUMMARY:New Way Cubs vs. St. Wendel
DESCRIPTION:Junioren Bundesliga Vorrunde (4. Spieltag)\nErgebnis: 20:25 (20:25)
UID:SM-B10246@dtfb.de
PRIORITY:5
SEQUENCE:1
CATEGORIES:SPORT
DTSTAMP:20260421T195657
END:VEVENT
BEGIN:VEVENT
CLASS:PUBLIC
DTSTART:20231014T160000Z
DURATION:PT2H30M
STATUS:CONFIRMED
SUMMARY:TSC Fränkisch-Crumbach vs. New Way Cubs
DESCRIPTION:Junioren Bundesliga Vorrunde (5. Spieltag)\nErgebnis: 25:24 (25:24)
UID:SM-B10252@dtfb.de
PRIORITY:5
SEQUENCE:1
CATEGORIES:SPORT
DTSTAMP:20260421T195657
END:VEVENT
BEGIN:VEVENT
CLASS:PUBLIC
DTSTART:20231015T080000Z
DURATION:PT2H30M
STATUS:CONFIRMED
SUMMARY:Kicker Masters Köln vs. New Way Cubs
DESCRIPTION:Junioren Bundesliga Hauptrunde (Viertelfinale)\nErgebnis: 25:22 (25:22)
UID:SM-B10258@dtfb.de
PRIORITY:5
SEQUENCE:1
CATEGORIES:SPORT
DTSTAMP:20260421T195657
END:VEVENT
END:VCALENDAR
