BEGIN:VCALENDAR
VERSION:2.0
PRODID:PHP
METHOD:REQUEST
X-ORIGINAL-URL:https://dtfb.de/wettbewerbe/dtfl-bundesliga/junioren/tabelle?task=team_begegnungen_ical&id=4402
X-WR-CALNAME;VALUE=TEXT:KC Gehlenberg
BEGIN:VEVENT
CLASS:PUBLIC
DTSTART:20231014T090000Z
DURATION:PT2H30M
STATUS:CONFIRMED
SUMMARY:KC Gehlenberg vs. St. Wendel
DESCRIPTION:Junioren Bundesliga Vorrunde (1. Spieltag)\nErgebnis: 18:25 (18:25)
UID:SM-B10229@dtfb.de
PRIORITY:5
SEQUENCE:1
CATEGORIES:SPORT
DTSTAMP:20260421T182148
END:VEVENT
BEGIN:VEVENT
CLASS:PUBLIC
DTSTART:20231014T113000Z
DURATION:PT2H30M
STATUS:CONFIRMED
SUMMARY:Kicker Masters Köln vs. KC Gehlenberg
DESCRIPTION:Junioren Bundesliga Vorrunde (2. Spieltag)\nErgebnis: 25:12 (25:12)
UID:SM-B10235@dtfb.de
PRIORITY:5
SEQUENCE:1
CATEGORIES:SPORT
DTSTAMP:20260421T182148
END:VEVENT
BEGIN:VEVENT
CLASS:PUBLIC
DTSTART:20231014T123000Z
DURATION:PT2H30M
STATUS:CONFIRMED
SUMMARY:KC Gehlenberg vs. Gustave-Eiffel-Schule Berlin
DESCRIPTION:Junioren Bundesliga Vorrunde (3. Spieltag)\nErgebnis: 25:10 (25:10)
UID:SM-B10241@dtfb.de
PRIORITY:5
SEQUENCE:1
CATEGORIES:SPORT
DTSTAMP:20260421T182148
END:VEVENT
BEGIN:VEVENT
CLASS:PUBLIC
DTSTART:20231014T141500Z
DURATION:PT2H30M
STATUS:CONFIRMED
SUMMARY:TFC Devils Oldenburg vs. KC Gehlenberg
DESCRIPTION:Junioren Bundesliga Vorrunde (4. Spieltag)\nErgebnis: 16:25 (16:25)
UID:SM-B10250@dtfb.de
PRIORITY:5
SEQUENCE:1
CATEGORIES:SPORT
DTSTAMP:20260421T182148
END:VEVENT
BEGIN:VEVENT
CLASS:PUBLIC
DTSTART:20231014T160000Z
DURATION:PT2H30M
STATUS:CONFIRMED
SUMMARY:KC Gehlenberg vs. TST Telgte 2
DESCRIPTION:Junioren Bundesliga Vorrunde (5. Spieltag)\nErgebnis: 24:25 (24:25)
UID:SM-B10253@dtfb.de
PRIORITY:5
SEQUENCE:1
CATEGORIES:SPORT
DTSTAMP:20260421T182148
END:VEVENT
BEGIN:VEVENT
CLASS:PUBLIC
DTSTART:20231015T080000Z
DURATION:PT2H30M
STATUS:CONFIRMED
SUMMARY:KC Gehlenberg vs. MKK Monster der Herzen
DESCRIPTION:Junioren Bundesliga Hauptrunde (Platz 7-13)\nErgebnis: 25:8 (25:8)
UID:SM-B10261@dtfb.de
PRIORITY:5
SEQUENCE:1
CATEGORIES:SPORT
DTSTAMP:20260421T182148
END:VEVENT
BEGIN:VEVENT
CLASS:PUBLIC
DTSTART:20231015T090000Z
DURATION:PT2H30M
STATUS:CONFIRMED
SUMMARY:KC Gehlenberg vs. Kick'IN Ingolstadt
DESCRIPTION:Junioren Bundesliga Hauptrunde (Platz 7-10)\nErgebnis: 23:25 (23:25)
UID:SM-B10264@dtfb.de
PRIORITY:5
SEQUENCE:1
CATEGORIES:SPORT
DTSTAMP:20260421T182148
END:VEVENT
BEGIN:VEVENT
CLASS:PUBLIC
DTSTART:20231015T090000Z
DURATION:PT2H30M
STATUS:CONFIRMED
SUMMARY:TST Telgte 1 vs. KC Gehlenberg
DESCRIPTION:Junioren Bundesliga Hauptrunde (Platz 9-10)\nErgebnis: 13:25 (13:25)
UID:SM-B10268@dtfb.de
PRIORITY:5
SEQUENCE:1
CATEGORIES:SPORT
DTSTAMP:20260421T182148
END:VEVENT
END:VCALENDAR
