BEGIN:VCALENDAR
VERSION:2.0
PRODID:PHP
METHOD:REQUEST
X-ORIGINAL-URL:https://dtfb.de/wettbewerbe/dtfl-bundesliga/junioren/tabelle?task=team_begegnungen_ical&id=4406
X-WR-CALNAME;VALUE=TEXT:TST Telgte 2
BEGIN:VEVENT
CLASS:PUBLIC
DTSTART:20231014T113000Z
DURATION:PT2H30M
STATUS:CONFIRMED
SUMMARY:Gustave-Eiffel-Schule Berlin vs. TST Telgte 2
DESCRIPTION:Junioren Bundesliga Vorrunde (2. Spieltag)\nErgebnis: 6:25 (6:25)
UID:SM-B10236@dtfb.de
PRIORITY:5
SEQUENCE:1
CATEGORIES:SPORT
DTSTAMP:20260421T200701
END:VEVENT
BEGIN:VEVENT
CLASS:PUBLIC
DTSTART:20231014T123000Z
DURATION:PT2H30M
STATUS:CONFIRMED
SUMMARY:TST Telgte 2 vs. St. Wendel
DESCRIPTION:Junioren Bundesliga Vorrunde (3. Spieltag)\nErgebnis: 19:25 (19:25)
UID:SM-B10244@dtfb.de
PRIORITY:5
SEQUENCE:1
CATEGORIES:SPORT
DTSTAMP:20260421T200701
END:VEVENT
BEGIN:VEVENT
CLASS:PUBLIC
DTSTART:20231014T141500Z
DURATION:PT2H30M
STATUS:CONFIRMED
SUMMARY:Kick'IN Ingolstadt vs. TST Telgte 2
DESCRIPTION:Junioren Bundesliga Vorrunde (4. Spieltag)\nErgebnis: 10:25 (10:25)
UID:SM-B10248@dtfb.de
PRIORITY:5
SEQUENCE:1
CATEGORIES:SPORT
DTSTAMP:20260421T200701
END:VEVENT
BEGIN:VEVENT
CLASS:PUBLIC
DTSTART:20231014T160000Z
DURATION:PT2H30M
STATUS:CONFIRMED
SUMMARY:KC Gehlenberg vs. TST Telgte 2
DESCRIPTION:Junioren Bundesliga Vorrunde (5. Spieltag)\nErgebnis: 24:25 (24:25)
UID:SM-B10253@dtfb.de
PRIORITY:5
SEQUENCE:1
CATEGORIES:SPORT
DTSTAMP:20260421T200701
END:VEVENT
BEGIN:VEVENT
CLASS:PUBLIC
DTSTART:20231015T080000Z
DURATION:PT2H30M
STATUS:CONFIRMED
SUMMARY:TST Telgte 2 vs. FC St. Pauli
DESCRIPTION:Junioren Bundesliga Hauptrunde (Viertelfinale)\nErgebnis: 25:23 (25:23)
UID:SM-B10259@dtfb.de
PRIORITY:5
SEQUENCE:1
CATEGORIES:SPORT
DTSTAMP:20260421T200701
END:VEVENT
BEGIN:VEVENT
CLASS:PUBLIC
DTSTART:20231015T090000Z
DURATION:PT2H30M
STATUS:CONFIRMED
SUMMARY:TSC Fränkisch-Crumbach vs. TST Telgte 2
DESCRIPTION:Junioren Bundesliga Hauptrunde (Halbfinale)\nErgebnis: 25:9 (25:9)
UID:SM-B10265@dtfb.de
PRIORITY:5
SEQUENCE:1
CATEGORIES:SPORT
DTSTAMP:20260421T200701
END:VEVENT
BEGIN:VEVENT
CLASS:PUBLIC
DTSTART:20231015T110000Z
DURATION:PT2H30M
STATUS:CONFIRMED
SUMMARY:Kicker Masters Köln vs. TST Telgte 2
DESCRIPTION:Junioren Bundesliga Hauptrunde (Platz 3)\nErgebnis: 25:18 (25:18)
UID:SM-B10270@dtfb.de
PRIORITY:5
SEQUENCE:1
CATEGORIES:SPORT
DTSTAMP:20260421T200701
END:VEVENT
END:VCALENDAR
