BEGIN:VCALENDAR
VERSION:2.0
PRODID:PHP
METHOD:REQUEST
X-ORIGINAL-URL:https://dtfb.de/wettbewerbe/dtfl-bundesliga/junioren/tabelle?task=team_begegnungen_ical&id=4423
X-WR-CALNAME;VALUE=TEXT:TFC Devils Oldenburg
BEGIN:VEVENT
CLASS:PUBLIC
DTSTART:20231014T090000Z
DURATION:PT2H30M
STATUS:CONFIRMED
SUMMARY:Kick'IN Ingolstadt vs. TFC Devils Oldenburg
DESCRIPTION:Junioren Bundesliga Vorrunde (1. Spieltag)\nErgebnis: 25:19 (25:19)
UID:SM-B10230@dtfb.de
PRIORITY:5
SEQUENCE:1
CATEGORIES:SPORT
DTSTAMP:20260421T164931
END:VEVENT
BEGIN:VEVENT
CLASS:PUBLIC
DTSTART:20231014T113000Z
DURATION:PT2H30M
STATUS:CONFIRMED
SUMMARY:TFC Devils Oldenburg vs. MKK Monster der Herzen
DESCRIPTION:Junioren Bundesliga Vorrunde (2. Spieltag)\nErgebnis: 25:11 (25:11)
UID:SM-B10237@dtfb.de
PRIORITY:5
SEQUENCE:1
CATEGORIES:SPORT
DTSTAMP:20260421T164931
END:VEVENT
BEGIN:VEVENT
CLASS:PUBLIC
DTSTART:20231014T123000Z
DURATION:PT2H30M
STATUS:CONFIRMED
SUMMARY:TFC Devils Oldenburg vs. MKK Monster Ninjas
DESCRIPTION:Junioren Bundesliga Vorrunde (3. Spieltag)\nErgebnis: 18:25 (18:25)
UID:SM-B10242@dtfb.de
PRIORITY:5
SEQUENCE:1
CATEGORIES:SPORT
DTSTAMP:20260421T164931
END:VEVENT
BEGIN:VEVENT
CLASS:PUBLIC
DTSTART:20231014T141500Z
DURATION:PT2H30M
STATUS:CONFIRMED
SUMMARY:TFC Devils Oldenburg vs. KC Gehlenberg
DESCRIPTION:Junioren Bundesliga Vorrunde (4. Spieltag)\nErgebnis: 16:25 (16:25)
UID:SM-B10250@dtfb.de
PRIORITY:5
SEQUENCE:1
CATEGORIES:SPORT
DTSTAMP:20260421T164931
END:VEVENT
BEGIN:VEVENT
CLASS:PUBLIC
DTSTART:20231015T080000Z
DURATION:PT2H30M
STATUS:CONFIRMED
SUMMARY:TST Telgte 1 vs. TFC Devils Oldenburg
DESCRIPTION:Junioren Bundesliga Hauptrunde (Platz 7-13)\nErgebnis: 25:17 (25:17)
UID:SM-B10260@dtfb.de
PRIORITY:5
SEQUENCE:1
CATEGORIES:SPORT
DTSTAMP:20260421T164931
END:VEVENT
END:VCALENDAR
