BEGIN:VCALENDAR
VERSION:2.0
PRODID:PHP
METHOD:REQUEST
X-ORIGINAL-URL:https://dtfb.de/wettbewerbe/dtfl-bundesliga/regionalliga/regionalliga-mitte?task=veranstaltung_begegnungen_ical&id=378
X-WR-CALNAME;VALUE=TEXT:Regionalliga Mitte
BEGIN:VEVENT
CLASS:PUBLIC
DTSTART:20240323T090000Z
DURATION:PT2H30M
STATUS:CONFIRMED
SUMMARY:1. TFC Leipzig e.V. vs. Highlife Essen
DESCRIPTION:Regionalliga Mitte (1. Spieltag)\nErgebnis: 42:39 (42:39)
UID:SM-B10610@dtfb.de
PRIORITY:5
SEQUENCE:1
CATEGORIES:SPORT
DTSTAMP:20260421T161043
END:VEVENT
BEGIN:VEVENT
CLASS:PUBLIC
DTSTART:20240323T090000Z
DURATION:PT2H30M
STATUS:CONFIRMED
SUMMARY:KGB Hannover vs. OHK Großenlüder
DESCRIPTION:Regionalliga Mitte (1. Spieltag)\nErgebnis: 42:36 (42:36)
UID:SM-B10607@dtfb.de
PRIORITY:5
SEQUENCE:1
CATEGORIES:SPORT
DTSTAMP:20260421T161043
END:VEVENT
BEGIN:VEVENT
CLASS:PUBLIC
DTSTART:20240323T090000Z
DURATION:PT2H30M
STATUS:CONFIRMED
SUMMARY:Partisan Hannover vs. TUS Aschaffenburg-Damm 1863 e.V
DESCRIPTION:Regionalliga Mitte (1. Spieltag)\nErgebnis: 42:24 (42:24)
UID:SM-B10608@dtfb.de
PRIORITY:5
SEQUENCE:1
CATEGORIES:SPORT
DTSTAMP:20260421T161043
END:VEVENT
BEGIN:VEVENT
CLASS:PUBLIC
DTSTART:20240323T090000Z
DURATION:PT2H30M
STATUS:CONFIRMED
SUMMARY:S.C. Fortuna Köln e.V. vs. Foos Works Aachen
DESCRIPTION:Regionalliga Mitte (1. Spieltag)\nErgebnis: 42:34 (42:34)
UID:SM-B10609@dtfb.de
PRIORITY:5
SEQUENCE:1
CATEGORIES:SPORT
DTSTAMP:20260421T161043
END:VEVENT
BEGIN:VEVENT
CLASS:PUBLIC
DTSTART:20240323T120000Z
DURATION:PT2H30M
STATUS:CONFIRMED
SUMMARY:Foos Works Aachen vs. Partisan Hannover
DESCRIPTION:Regionalliga Mitte (2. Spieltag)\nErgebnis: 35:42 (35:42)
UID:SM-B10611@dtfb.de
PRIORITY:5
SEQUENCE:1
CATEGORIES:SPORT
DTSTAMP:20260421T161043
END:VEVENT
BEGIN:VEVENT
CLASS:PUBLIC
DTSTART:20240323T120000Z
DURATION:PT2H30M
STATUS:CONFIRMED
SUMMARY:Highlife Essen vs. KGB Hannover
DESCRIPTION:Regionalliga Mitte (2. Spieltag)\nErgebnis: 42:38 (42:38)
UID:SM-B10613@dtfb.de
PRIORITY:5
SEQUENCE:1
CATEGORIES:SPORT
DTSTAMP:20260421T161043
END:VEVENT
BEGIN:VEVENT
CLASS:PUBLIC
DTSTART:20240323T120000Z
DURATION:PT2H30M
STATUS:CONFIRMED
SUMMARY:OHK Großenlüder vs. S.C. Fortuna Köln e.V.
DESCRIPTION:Regionalliga Mitte (2. Spieltag)\nErgebnis: 37:42 (37:42)
UID:SM-B10614@dtfb.de
PRIORITY:5
SEQUENCE:1
CATEGORIES:SPORT
DTSTAMP:20260421T161043
END:VEVENT
BEGIN:VEVENT
CLASS:PUBLIC
DTSTART:20240323T120000Z
DURATION:PT2H30M
STATUS:CONFIRMED
SUMMARY:TUS Aschaffenburg-Damm 1863 e.V vs. 1. TFC Leipzig e.V.
DESCRIPTION:Regionalliga Mitte (2. Spieltag)\nErgebnis: 19:42 (19:42)
UID:SM-B10612@dtfb.de
PRIORITY:5
SEQUENCE:1
CATEGORIES:SPORT
DTSTAMP:20260421T161043
END:VEVENT
BEGIN:VEVENT
CLASS:PUBLIC
DTSTART:20240323T143000Z
DURATION:PT2H30M
STATUS:CONFIRMED
SUMMARY:1. TFC Leipzig e.V. vs. Foos Works Aachen
DESCRIPTION:Regionalliga Mitte (3. Spieltag)\nErgebnis: 42:34 (42:34)
UID:SM-B10618@dtfb.de
PRIORITY:5
SEQUENCE:1
CATEGORIES:SPORT
DTSTAMP:20260421T161043
END:VEVENT
BEGIN:VEVENT
CLASS:PUBLIC
DTSTART:20240323T143000Z
DURATION:PT2H30M
STATUS:CONFIRMED
SUMMARY:Highlife Essen vs. TUS Aschaffenburg-Damm 1863 e.V
DESCRIPTION:Regionalliga Mitte (3. Spieltag)\nErgebnis: 42:23 (42:23)
UID:SM-B10617@dtfb.de
PRIORITY:5
SEQUENCE:1
CATEGORIES:SPORT
DTSTAMP:20260421T161043
END:VEVENT
BEGIN:VEVENT
CLASS:PUBLIC
DTSTART:20240323T143000Z
DURATION:PT2H30M
STATUS:CONFIRMED
SUMMARY:KGB Hannover vs. S.C. Fortuna Köln e.V.
DESCRIPTION:Regionalliga Mitte (3. Spieltag)\nErgebnis: 28:42 (28:42)
UID:SM-B10615@dtfb.de
PRIORITY:5
SEQUENCE:1
CATEGORIES:SPORT
DTSTAMP:20260421T161043
END:VEVENT
BEGIN:VEVENT
CLASS:PUBLIC
DTSTART:20240323T143000Z
DURATION:PT2H30M
STATUS:CONFIRMED
SUMMARY:Partisan Hannover vs. OHK Großenlüder
DESCRIPTION:Regionalliga Mitte (3. Spieltag)\nErgebnis: 42:28 (42:28)
UID:SM-B10616@dtfb.de
PRIORITY:5
SEQUENCE:1
CATEGORIES:SPORT
DTSTAMP:20260421T161043
END:VEVENT
BEGIN:VEVENT
CLASS:PUBLIC
DTSTART:20240323T170000Z
DURATION:PT2H30M
STATUS:CONFIRMED
SUMMARY:Foos Works Aachen vs. Highlife Essen
DESCRIPTION:Regionalliga Mitte (4. Spieltag)\nErgebnis: 25:42 (25:42)
UID:SM-B10619@dtfb.de
PRIORITY:5
SEQUENCE:1
CATEGORIES:SPORT
DTSTAMP:20260421T161043
END:VEVENT
BEGIN:VEVENT
CLASS:PUBLIC
DTSTART:20240323T170000Z
DURATION:PT2H30M
STATUS:CONFIRMED
SUMMARY:OHK Großenlüder vs. 1. TFC Leipzig e.V.
DESCRIPTION:Regionalliga Mitte (4. Spieltag)\nErgebnis: 40:42 (40:42)
UID:SM-B10622@dtfb.de
PRIORITY:5
SEQUENCE:1
CATEGORIES:SPORT
DTSTAMP:20260421T161043
END:VEVENT
BEGIN:VEVENT
CLASS:PUBLIC
DTSTART:20240323T170000Z
DURATION:PT2H30M
STATUS:CONFIRMED
SUMMARY:S.C. Fortuna Köln e.V. vs. Partisan Hannover
DESCRIPTION:Regionalliga Mitte (4. Spieltag)\nErgebnis: 38:42 (38:42)
UID:SM-B10621@dtfb.de
PRIORITY:5
SEQUENCE:1
CATEGORIES:SPORT
DTSTAMP:20260421T161043
END:VEVENT
BEGIN:VEVENT
CLASS:PUBLIC
DTSTART:20240323T170000Z
DURATION:PT2H30M
STATUS:CONFIRMED
SUMMARY:TUS Aschaffenburg-Damm 1863 e.V vs. KGB Hannover
DESCRIPTION:Regionalliga Mitte (4. Spieltag)\nErgebnis: 23:42 (23:42)
UID:SM-B10620@dtfb.de
PRIORITY:5
SEQUENCE:1
CATEGORIES:SPORT
DTSTAMP:20260421T161043
END:VEVENT
BEGIN:VEVENT
CLASS:PUBLIC
DTSTART:20240324T083000Z
DURATION:PT2H30M
STATUS:CONFIRMED
SUMMARY:1. TFC Leipzig e.V. vs. S.C. Fortuna Köln e.V.
DESCRIPTION:Regionalliga Mitte (5. Spieltag)\nErgebnis: 42:28 (42:28)
UID:SM-B10626@dtfb.de
PRIORITY:5
SEQUENCE:1
CATEGORIES:SPORT
DTSTAMP:20260421T161043
END:VEVENT
BEGIN:VEVENT
CLASS:PUBLIC
DTSTART:20240324T083000Z
DURATION:PT2H30M
STATUS:CONFIRMED
SUMMARY:Highlife Essen vs. OHK Großenlüder
DESCRIPTION:Regionalliga Mitte (5. Spieltag)\nErgebnis: 42:32 (42:32)
UID:SM-B10625@dtfb.de
PRIORITY:5
SEQUENCE:1
CATEGORIES:SPORT
DTSTAMP:20260421T161043
END:VEVENT
BEGIN:VEVENT
CLASS:PUBLIC
DTSTART:20240324T083000Z
DURATION:PT2H30M
STATUS:CONFIRMED
SUMMARY:KGB Hannover vs. Partisan Hannover
DESCRIPTION:Regionalliga Mitte (5. Spieltag)\nErgebnis: 42:36 (42:36)
UID:SM-B10623@dtfb.de
PRIORITY:5
SEQUENCE:1
CATEGORIES:SPORT
DTSTAMP:20260421T161043
END:VEVENT
BEGIN:VEVENT
CLASS:PUBLIC
DTSTART:20240324T083000Z
DURATION:PT2H30M
STATUS:CONFIRMED
SUMMARY:TUS Aschaffenburg-Damm 1863 e.V vs. Foos Works Aachen
DESCRIPTION:Regionalliga Mitte (5. Spieltag)\nErgebnis: 24:42 (24:42)
UID:SM-B10624@dtfb.de
PRIORITY:5
SEQUENCE:1
CATEGORIES:SPORT
DTSTAMP:20260421T161043
END:VEVENT
BEGIN:VEVENT
CLASS:PUBLIC
DTSTART:20240324T110000Z
DURATION:PT2H30M
STATUS:CONFIRMED
SUMMARY:KGB Hannover vs. Foos Works Aachen
DESCRIPTION:Regionalliga Mitte (6. Spieltag)\nErgebnis: 44:42 (44:42)
UID:SM-B10627@dtfb.de
PRIORITY:5
SEQUENCE:1
CATEGORIES:SPORT
DTSTAMP:20260421T161043
END:VEVENT
BEGIN:VEVENT
CLASS:PUBLIC
DTSTART:20240324T110000Z
DURATION:PT2H30M
STATUS:CONFIRMED
SUMMARY:OHK Großenlüder vs. TUS Aschaffenburg-Damm 1863 e.V
DESCRIPTION:Regionalliga Mitte (6. Spieltag)\nErgebnis: 42:28 (42:28)
UID:SM-B10630@dtfb.de
PRIORITY:5
SEQUENCE:1
CATEGORIES:SPORT
DTSTAMP:20260421T161043
END:VEVENT
BEGIN:VEVENT
CLASS:PUBLIC
DTSTART:20240324T110000Z
DURATION:PT2H30M
STATUS:CONFIRMED
SUMMARY:Partisan Hannover vs. 1. TFC Leipzig e.V.
DESCRIPTION:Regionalliga Mitte (6. Spieltag)\nErgebnis: 42:28 (42:28)
UID:SM-B10628@dtfb.de
PRIORITY:5
SEQUENCE:1
CATEGORIES:SPORT
DTSTAMP:20260421T161043
END:VEVENT
BEGIN:VEVENT
CLASS:PUBLIC
DTSTART:20240324T110000Z
DURATION:PT2H30M
STATUS:CONFIRMED
SUMMARY:S.C. Fortuna Köln e.V. vs. Highlife Essen
DESCRIPTION:Regionalliga Mitte (6. Spieltag)\nErgebnis: 38:42 (38:42)
UID:SM-B10629@dtfb.de
PRIORITY:5
SEQUENCE:1
CATEGORIES:SPORT
DTSTAMP:20260421T161043
END:VEVENT
BEGIN:VEVENT
CLASS:PUBLIC
DTSTART:20240324T133000Z
DURATION:PT2H30M
STATUS:CONFIRMED
SUMMARY:1. TFC Leipzig e.V. vs. KGB Hannover
DESCRIPTION:Regionalliga Mitte (7. Spieltag)\nErgebnis: 42:34 (42:34)
UID:SM-B10634@dtfb.de
PRIORITY:5
SEQUENCE:1
CATEGORIES:SPORT
DTSTAMP:20260421T161043
END:VEVENT
BEGIN:VEVENT
CLASS:PUBLIC
DTSTART:20240324T133000Z
DURATION:PT2H30M
STATUS:CONFIRMED
SUMMARY:Foos Works Aachen vs. OHK Großenlüder
DESCRIPTION:Regionalliga Mitte (7. Spieltag)\nErgebnis: 42:25 (42:25)
UID:SM-B10631@dtfb.de
PRIORITY:5
SEQUENCE:1
CATEGORIES:SPORT
DTSTAMP:20260421T161043
END:VEVENT
BEGIN:VEVENT
CLASS:PUBLIC
DTSTART:20240324T133000Z
DURATION:PT2H30M
STATUS:CONFIRMED
SUMMARY:Highlife Essen vs. Partisan Hannover
DESCRIPTION:Regionalliga Mitte (7. Spieltag)\nErgebnis: 42:36 (42:36)
UID:SM-B10633@dtfb.de
PRIORITY:5
SEQUENCE:1
CATEGORIES:SPORT
DTSTAMP:20260421T161043
END:VEVENT
BEGIN:VEVENT
CLASS:PUBLIC
DTSTART:20240324T133000Z
DURATION:PT2H30M
STATUS:CONFIRMED
SUMMARY:TUS Aschaffenburg-Damm 1863 e.V vs. S.C. Fortuna Köln e.V.
DESCRIPTION:Regionalliga Mitte (7. Spieltag)\nErgebnis: 26:42 (26:42)
UID:SM-B10632@dtfb.de
PRIORITY:5
SEQUENCE:1
CATEGORIES:SPORT
DTSTAMP:20260421T161043
END:VEVENT
END:VCALENDAR
